BEGIN:VCALENDAR
VERSION:2.0
PRODID:-//AusschreibungsRadar//Timeline//DE
CALSCALE:GREGORIAN
METHOD:PUBLISH
X-WR-CALNAME:Projekt Ingenieurleistungen nach Teil 4 Abschnitt 2 HOAI 2021
X-WR-TIMEZONE:Europe/Berlin
BEGIN:VEVENT
UID:15f1b74066bd0764@ausschreibungsradar.com
DTSTAMP:20260424T102851Z
DTSTART;VALUE=DATE:20251024
DTEND;VALUE=DATE:20251024
SUMMARY:Ausschreibung — Ingenieurleistungen nach Teil 4 Abschnitt 2 HOAI 2021
DESCRIPTION:Phase: Ausschreibung | Beschreibung: Offizielle Ausschreibung mit Bieterfrist. | Link: https://ausschreibungsradar.com/ausschreibung/89cb097b-aac6-4139-94c1-acbed63ae0f7/
URL:https://ausschreibungsradar.com/ausschreibung/89cb097b-aac6-4139-94c1-acbed63ae0f7/
END:VEVENT
BEGIN:VEVENT
UID:908306449b1a4234@ausschreibungsradar.com
DTSTAMP:20260424T102851Z
DTSTART;VALUE=DATE:20251030
DTEND;VALUE=DATE:20251030
SUMMARY:Ausschreibung — Ingenieurleistungen nach Teil 4 Abschnitt 2 HOAI 2021
DESCRIPTION:Phase: Ausschreibung | Beschreibung: Offizielle Ausschreibung mit Bieterfrist. | Link: https://ausschreibungsradar.com/ausschreibung/47f57707-b754-444c-86b4-caca951e982a/
URL:https://ausschreibungsradar.com/ausschreibung/47f57707-b754-444c-86b4-caca951e982a/
END:VEVENT
BEGIN:VEVENT
UID:f34ba04fc63cc523@ausschreibungsradar.com
DTSTAMP:20260424T102851Z
DTSTART;VALUE=DATE:20251103
DTEND;VALUE=DATE:20251103
SUMMARY:Ausschreibung — Ingenieurleistungen nach Teil 4 Abschnitt 2 HOAI 2021
DESCRIPTION:Phase: Ausschreibung | Beschreibung: Angebote werden eingeholt | Link: https://ausschreibungsradar.com/ausschreibung/14ff0a8f-b08c-4259-b6ef-e90050ebd3a8/ | Geschätzter Wert: 227027 €
URL:https://ausschreibungsradar.com/ausschreibung/14ff0a8f-b08c-4259-b6ef-e90050ebd3a8/
END:VEVENT
BEGIN:VEVENT
UID:f9f77b59f1bf6d02@ausschreibungsradar.com
DTSTAMP:20260424T102851Z
DTSTART;VALUE=DATE:20251120
DTEND;VALUE=DATE:20251120
SUMMARY:Ausschreibung — Ingenieurleistungen nach Teil 4 Abschnitt 2 HOAI 2021
DESCRIPTION:Phase: Ausschreibung | Beschreibung: Offizielle Ausschreibung mit Bieterfrist. | Link: https://ausschreibungsradar.com/ausschreibung/cc7a35ee-8b39-4c93-ab75-006752e146fd/
URL:https://ausschreibungsradar.com/ausschreibung/cc7a35ee-8b39-4c93-ab75-006752e146fd/
END:VEVENT
BEGIN:VEVENT
UID:1211737544c2e678@ausschreibungsradar.com
DTSTAMP:20260424T102851Z
DTSTART;VALUE=DATE:20260330
DTEND;VALUE=DATE:20260330
SUMMARY:Vergabeergebnis — Ingenieurleistungen nach Teil 4 Abschnitt 2 HOAI 2021
DESCRIPTION:Phase: Vergabeergebnis | Beschreibung: Auftrag wurde zugeschlagen | Link: https://ausschreibungsradar.com/ausschreibung/6f0755db-f6b1-4cde-9fc5-011a0a494265/ | Geschätzter Wert: 227027 €
URL:https://ausschreibungsradar.com/ausschreibung/6f0755db-f6b1-4cde-9fc5-011a0a494265/
END:VEVENT
END:VCALENDAR
