BEGIN:VCALENDAR
VERSION:2.0
PRODID:-//AusschreibungsRadar//Timeline//DE
CALSCALE:GREGORIAN
METHOD:PUBLISH
X-WR-CALNAME:Projekt S-Bahnlinie S4 (Ost) Hamburg - Bad Oldesloe; PFA 1; VE 06.4 
X-WR-TIMEZONE:Europe/Berlin
BEGIN:VEVENT
UID:c0481e3bca69ed86@ausschreibungsradar.com
DTSTAMP:20260425T124232Z
DTSTART;VALUE=DATE:20250115
DTEND;VALUE=DATE:20250115
SUMMARY:Ausschreibung — S-Bahnlinie S4 (Ost) Hamburg - Bad Oldesloe\; PFA 1\; VE 06.4 
DESCRIPTION:Phase: Ausschreibung | Beschreibung: Angebote werden eingeholt | Link: https://ausschreibungsradar.com/ausschreibung/1a6e0596-38e7-43ed-bb69-82294024df50/
URL:https://ausschreibungsradar.com/ausschreibung/1a6e0596-38e7-43ed-bb69-82294024df50/
END:VEVENT
BEGIN:VEVENT
UID:23af9ca610397f25@ausschreibungsradar.com
DTSTAMP:20260425T124232Z
DTSTART;VALUE=DATE:20250115
DTEND;VALUE=DATE:20250115
SUMMARY:Ausschreibung — S-Bahnlinie S4 (Ost) Hamburg - Bad Oldesloe\; PFA 1\; VE 06.4 
DESCRIPTION:Phase: Ausschreibung | Beschreibung: Offizielle Ausschreibung mit Bieterfrist. | Link: https://ausschreibungsradar.com/ausschreibung/71653ef5-34b2-4561-abdf-6ae2d6eada7a/
URL:https://ausschreibungsradar.com/ausschreibung/71653ef5-34b2-4561-abdf-6ae2d6eada7a/
END:VEVENT
BEGIN:VEVENT
UID:9319850232f02e9b@ausschreibungsradar.com
DTSTAMP:20260425T124232Z
DTSTART;VALUE=DATE:20250212
DTEND;VALUE=DATE:20250212
SUMMARY:Zuschlag — S-Bahnlinie S4 (Ost) Hamburg - Bad Oldesloe\; PFA 1\; VE 06.4 
DESCRIPTION:Phase: Zuschlag | Beschreibung: Vergabeergebnis — Auftrag wurde erteilt oder Verfahren beendet. | Link: https://ausschreibungsradar.com/ausschreibung/04e3196c-91af-4f07-a203-2d73661aa589/
URL:https://ausschreibungsradar.com/ausschreibung/04e3196c-91af-4f07-a203-2d73661aa589/
END:VEVENT
BEGIN:VEVENT
UID:5de82337f259e993@ausschreibungsradar.com
DTSTAMP:20260425T124232Z
DTSTART;VALUE=DATE:20250224
DTEND;VALUE=DATE:20250224
SUMMARY:Vergabeergebnis — S-Bahnlinie S4 (Ost) Hamburg - Bad Oldesloe\; PFA 1\; VE 06.4 
DESCRIPTION:Phase: Vergabeergebnis | Beschreibung: Sonstige Gründe | Link: https://ausschreibungsradar.com/ausschreibung/156759c1-bdd9-491a-b052-4a7fc5280cee/
URL:https://ausschreibungsradar.com/ausschreibung/156759c1-bdd9-491a-b052-4a7fc5280cee/
END:VEVENT
BEGIN:VEVENT
UID:ccde561352dfd67f@ausschreibungsradar.com
DTSTAMP:20260425T124232Z
DTSTART;VALUE=DATE:20250303
DTEND;VALUE=DATE:20250303
SUMMARY:Ausschreibung — S-Bahnlinie S4 (Ost) Hamburg - Bad Oldesloe\; PFA 1\; VE 06.4 
DESCRIPTION:Phase: Ausschreibung | Beschreibung: Offizielle Ausschreibung mit Bieterfrist. | Link: https://ausschreibungsradar.com/ausschreibung/5b830f72-622a-4f6c-950e-d04b66e03b4c/
URL:https://ausschreibungsradar.com/ausschreibung/5b830f72-622a-4f6c-950e-d04b66e03b4c/
END:VEVENT
END:VCALENDAR
