BEGIN:VCALENDAR
VERSION:2.0
PRODID:-//AusschreibungsRadar//Timeline//DE
CALSCALE:GREGORIAN
METHOD:PUBLISH
X-WR-CALNAME:Projekt EDV Verbrauchsmaterial 
X-WR-TIMEZONE:Europe/Berlin
BEGIN:VEVENT
UID:ecf0ad53ef0cf20f@ausschreibungsradar.com
DTSTAMP:20260425T162438Z
DTSTART;VALUE=DATE:20251201
DTEND;VALUE=DATE:20251201
SUMMARY:Angebotsfrist — EDV Verbrauchsmaterial 
DESCRIPTION:Phase: Ausschreibung | Beschreibung: Angebote werden eingeholt | Link: https://ausschreibungsradar.com/ausschreibung/1572fe6a-b50b-47c8-bb81-a3711631a0ae/
URL:https://ausschreibungsradar.com/ausschreibung/1572fe6a-b50b-47c8-bb81-a3711631a0ae/
END:VEVENT
BEGIN:VEVENT
UID:616ff56b4c4c4ef4@ausschreibungsradar.com
DTSTAMP:20260425T162438Z
DTSTART;VALUE=DATE:20251029
DTEND;VALUE=DATE:20251029
SUMMARY:Ausschreibung — EDV Verbrauchsmaterial 
DESCRIPTION:Phase: Ausschreibung | Beschreibung: Offizielle Ausschreibung mit Bieterfrist. | Link: https://ausschreibungsradar.com/ausschreibung/8634c54d-5072-4e7f-962a-b4c6f9df4ae2/
URL:https://ausschreibungsradar.com/ausschreibung/8634c54d-5072-4e7f-962a-b4c6f9df4ae2/
END:VEVENT
BEGIN:VEVENT
UID:ce7716887330e86c@ausschreibungsradar.com
DTSTAMP:20260425T162438Z
DTSTART;VALUE=DATE:20251029
DTEND;VALUE=DATE:20251029
SUMMARY:Ausschreibung — EDV Verbrauchsmaterial 
DESCRIPTION:Phase: Ausschreibung | Beschreibung: Offizielle Ausschreibung mit Bieterfrist. | Link: https://ausschreibungsradar.com/ausschreibung/99a69617-71f3-4066-a3b4-7bd8790042d6/
URL:https://ausschreibungsradar.com/ausschreibung/99a69617-71f3-4066-a3b4-7bd8790042d6/
END:VEVENT
BEGIN:VEVENT
UID:215eec89cd2b0eb9@ausschreibungsradar.com
DTSTAMP:20260425T162438Z
DTSTART;VALUE=DATE:20251029
DTEND;VALUE=DATE:20251029
SUMMARY:Ausschreibung — EDV Verbrauchsmaterial 
DESCRIPTION:Phase: Ausschreibung | Beschreibung: Offizielle Ausschreibung mit Bieterfrist. | Link: https://ausschreibungsradar.com/ausschreibung/c9f1c7ab-5bf5-4d9a-b62b-d3a3819a7200/
URL:https://ausschreibungsradar.com/ausschreibung/c9f1c7ab-5bf5-4d9a-b62b-d3a3819a7200/
END:VEVENT
BEGIN:VEVENT
UID:5def7f295339db36@ausschreibungsradar.com
DTSTAMP:20260425T162438Z
DTSTART;VALUE=DATE:20251029
DTEND;VALUE=DATE:20251029
SUMMARY:Ausschreibung — EDV Verbrauchsmaterial 
DESCRIPTION:Phase: Ausschreibung | Beschreibung: Offizielle Ausschreibung mit Bieterfrist. | Link: https://ausschreibungsradar.com/ausschreibung/40a960ab-e363-43e8-a8ad-a43f76cea0fc/
URL:https://ausschreibungsradar.com/ausschreibung/40a960ab-e363-43e8-a8ad-a43f76cea0fc/
END:VEVENT
BEGIN:VEVENT
UID:7dea327aac3ef27e@ausschreibungsradar.com
DTSTAMP:20260425T162438Z
DTSTART;VALUE=DATE:20260206
DTEND;VALUE=DATE:20260206
SUMMARY:Vergabeergebnis — EDV Verbrauchsmaterial 
DESCRIPTION:Phase: Vergabeergebnis | Beschreibung: Auftrag wurde zugeschlagen | Link: https://ausschreibungsradar.com/ausschreibung/5439ed4e-2705-46e7-ac63-59168d42956c/
URL:https://ausschreibungsradar.com/ausschreibung/5439ed4e-2705-46e7-ac63-59168d42956c/
END:VEVENT
END:VCALENDAR
