BEGIN:VCALENDAR
VERSION:2.0
PRODID:-//AusschreibungsRadar//Timeline//DE
CALSCALE:GREGORIAN
METHOD:PUBLISH
X-WR-CALNAME:Projekt Bereitschaftspolizei und Polizeifachschule Chemnitz, Neubau 
X-WR-TIMEZONE:Europe/Berlin
BEGIN:VEVENT
UID:de996eecf5976de4@ausschreibungsradar.com
DTSTAMP:20260425T143624Z
DTSTART;VALUE=DATE:20240308
DTEND;VALUE=DATE:20240308
SUMMARY:Ausschreibung — Bereitschaftspolizei und Polizeifachschule Chemnitz\, Neubau 
DESCRIPTION:Phase: Ausschreibung | Beschreibung: Offizielle Ausschreibung mit Bieterfrist. | Link: https://ausschreibungsradar.com/ausschreibung/c087a0bc-34a5-4c31-83a6-9ef4e2a7b15f/
URL:https://ausschreibungsradar.com/ausschreibung/c087a0bc-34a5-4c31-83a6-9ef4e2a7b15f/
END:VEVENT
BEGIN:VEVENT
UID:793c6e911b6166a0@ausschreibungsradar.com
DTSTAMP:20260425T143624Z
DTSTART;VALUE=DATE:20240507
DTEND;VALUE=DATE:20240507
SUMMARY:Angebotsfrist — Bereitschaftspolizei und Polizeifachschule Chemnitz\, Neubau 
DESCRIPTION:Phase: Ausschreibung | Beschreibung: Angebote werden eingeholt | Link: https://ausschreibungsradar.com/ausschreibung/1580204a-e161-433b-a099-04964d1528ff/
URL:https://ausschreibungsradar.com/ausschreibung/1580204a-e161-433b-a099-04964d1528ff/
END:VEVENT
BEGIN:VEVENT
UID:157ccbb7662ea2ac@ausschreibungsradar.com
DTSTAMP:20260425T143624Z
DTSTART;VALUE=DATE:20240806
DTEND;VALUE=DATE:20240806
SUMMARY:Vergabeergebnis — Bereitschaftspolizei und Polizeifachschule Chemnitz\, Neubau 
DESCRIPTION:Phase: Vergabeergebnis | Beschreibung: Auftrag wurde zugeschlagen | Link: https://ausschreibungsradar.com/ausschreibung/f0a25881-f6d4-4377-9585-490a42f9f624/
URL:https://ausschreibungsradar.com/ausschreibung/f0a25881-f6d4-4377-9585-490a42f9f624/
END:VEVENT
END:VCALENDAR
