BEGIN:VCALENDAR
VERSION:2.0
PRODID:-//AusschreibungsRadar//Timeline//DE
CALSCALE:GREGORIAN
METHOD:PUBLISH
X-WR-CALNAME:Projekt Neubau Kupferblümchen: Los 2 - Erdung und Blitzschutz
X-WR-TIMEZONE:Europe/Berlin
BEGIN:VEVENT
UID:4a4055fcd93de625@ausschreibungsradar.com
DTSTAMP:20260424T225207Z
DTSTART;VALUE=DATE:20250627
DTEND;VALUE=DATE:20250627
SUMMARY:Angebotsfrist — Neubau Kupferblümchen: Los 2 - Erdung und Blitzschutz
DESCRIPTION:Phase: Ausschreibung | Beschreibung: Angebote werden eingeholt | Link: https://ausschreibungsradar.com/ausschreibung/158d8d77-9478-42b5-a5cd-bb08c4fd43fc/
URL:https://ausschreibungsradar.com/ausschreibung/158d8d77-9478-42b5-a5cd-bb08c4fd43fc/
END:VEVENT
END:VCALENDAR
