BEGIN:VCALENDAR
VERSION:2.0
PRODID:-//AusschreibungsRadar//Timeline//DE
CALSCALE:GREGORIAN
METHOD:PUBLISH
X-WR-CALNAME:Projekt LOS 12.1 Sanitärcontainer Wohnmobilstellplatz
X-WR-TIMEZONE:Europe/Berlin
BEGIN:VEVENT
UID:fc25b8a016286382@ausschreibungsradar.com
DTSTAMP:20260426T004011Z
DTSTART;VALUE=DATE:20250312
DTEND;VALUE=DATE:20250312
SUMMARY:Angebotsfrist — LOS 12.1 Sanitärcontainer Wohnmobilstellplatz
DESCRIPTION:Phase: Ausschreibung | Beschreibung: Angebote werden eingeholt | Link: https://ausschreibungsradar.com/ausschreibung/0506b449-13b9-4166-af8b-b45374ed03c0/
URL:https://ausschreibungsradar.com/ausschreibung/0506b449-13b9-4166-af8b-b45374ed03c0/
END:VEVENT
BEGIN:VEVENT
UID:969a6c2648e5864f@ausschreibungsradar.com
DTSTAMP:20260426T004011Z
DTSTART;VALUE=DATE:20251216
DTEND;VALUE=DATE:20251216
SUMMARY:Vergabeergebnis — LOS 12.1 Sanitärcontainer Wohnmobilstellplatz
DESCRIPTION:Phase: Vergabeergebnis | Beschreibung: Auftrag wurde zugeschlagen | Link: https://ausschreibungsradar.com/ausschreibung/15958230-9bf5-4016-ba4d-c0c8f4ec6bcd/
URL:https://ausschreibungsradar.com/ausschreibung/15958230-9bf5-4016-ba4d-c0c8f4ec6bcd/
END:VEVENT
END:VCALENDAR
