BEGIN:VCALENDAR
VERSION:2.0
PRODID:-//AusschreibungsRadar//Timeline//DE
CALSCALE:GREGORIAN
METHOD:PUBLISH
X-WR-CALNAME:Projekt Öffentliches Zentrum Großschwarzenlohe - Elektro
X-WR-TIMEZONE:Europe/Berlin
BEGIN:VEVENT
UID:59933bc3ed836d1e@ausschreibungsradar.com
DTSTAMP:20260424T173421Z
DTSTART;VALUE=DATE:20250424
DTEND;VALUE=DATE:20250424
SUMMARY:Angebotsfrist — Öffentliches Zentrum Großschwarzenlohe - Elektro
DESCRIPTION:Phase: Ausschreibung | Beschreibung: Angebote werden eingeholt | Link: https://ausschreibungsradar.com/ausschreibung/031f0d65-727f-4c7f-84d8-170683eb27e2/ | Geschätzter Wert: 850000 €
URL:https://ausschreibungsradar.com/ausschreibung/031f0d65-727f-4c7f-84d8-170683eb27e2/
END:VEVENT
BEGIN:VEVENT
UID:081dd42d2fb64e9f@ausschreibungsradar.com
DTSTAMP:20260424T173421Z
DTSTART;VALUE=DATE:20250603
DTEND;VALUE=DATE:20250603
SUMMARY:Zuschlag — Öffentliches Zentrum Großschwarzenlohe - Elektro
DESCRIPTION:Phase: Zuschlag | Beschreibung: Vergabeergebnis — Auftrag wurde erteilt oder Verfahren beendet. | Link: https://ausschreibungsradar.com/ausschreibung/42cc9cd2-491e-40f1-baff-4795576d81b6/
URL:https://ausschreibungsradar.com/ausschreibung/42cc9cd2-491e-40f1-baff-4795576d81b6/
END:VEVENT
BEGIN:VEVENT
UID:2a1d79d8880bc702@ausschreibungsradar.com
DTSTAMP:20260424T173421Z
DTSTART;VALUE=DATE:20250604
DTEND;VALUE=DATE:20250604
SUMMARY:Vergabeergebnis — Öffentliches Zentrum Großschwarzenlohe - Elektro
DESCRIPTION:Phase: Vergabeergebnis | Beschreibung: Auftrag wurde zugeschlagen | Link: https://ausschreibungsradar.com/ausschreibung/15a259e8-7f28-4d72-9841-8bce83a7dcfb/
URL:https://ausschreibungsradar.com/ausschreibung/15a259e8-7f28-4d72-9841-8bce83a7dcfb/
END:VEVENT
END:VCALENDAR
