BEGIN:VCALENDAR
VERSION:2.0
PRODID:-//AusschreibungsRadar//Timeline//DE
CALSCALE:GREGORIAN
METHOD:PUBLISH
X-WR-CALNAME:Projekt 2025-0393 Beschaffung von drei Einsatzleitwagen für die Feue
X-WR-TIMEZONE:Europe/Berlin
BEGIN:VEVENT
UID:0b036280e07bb851@ausschreibungsradar.com
DTSTAMP:20260426T012942Z
DTSTART;VALUE=DATE:20250711
DTEND;VALUE=DATE:20250711
SUMMARY:Angebotsfrist — 2025-0393 Beschaffung von drei Einsatzleitwagen für die Feue
DESCRIPTION:Phase: Ausschreibung | Beschreibung: Angebote werden eingeholt | Link: https://ausschreibungsradar.com/ausschreibung/d27fcc2d-50cb-41e6-b1f4-86db0554af0c/
URL:https://ausschreibungsradar.com/ausschreibung/d27fcc2d-50cb-41e6-b1f4-86db0554af0c/
END:VEVENT
BEGIN:VEVENT
UID:1857e5116daa564c@ausschreibungsradar.com
DTSTAMP:20260426T012942Z
DTSTART;VALUE=DATE:20250923
DTEND;VALUE=DATE:20250923
SUMMARY:Vergabeergebnis — 2025-0393 Beschaffung von drei Einsatzleitwagen für die Feue
DESCRIPTION:Phase: Vergabeergebnis | Beschreibung: Auftrag wurde zugeschlagen | Link: https://ausschreibungsradar.com/ausschreibung/15f274b5-a5e0-42d1-b494-d0f7b1004f97/
URL:https://ausschreibungsradar.com/ausschreibung/15f274b5-a5e0-42d1-b494-d0f7b1004f97/
END:VEVENT
END:VCALENDAR
