BEGIN:VCALENDAR
VERSION:2.0
PRODID:-//AusschreibungsRadar//Timeline//DE
CALSCALE:GREGORIAN
METHOD:PUBLISH
X-WR-CALNAME:Projekt SV-CNI-260116-002 - Instandsetzung Firsthohlstellen, Tragwer
X-WR-TIMEZONE:Europe/Berlin
BEGIN:VEVENT
UID:ca0ee594e3feaeb5@ausschreibungsradar.com
DTSTAMP:20260424T105428Z
DTSTART;VALUE=DATE:20260226
DTEND;VALUE=DATE:20260226
SUMMARY:Angebotsfrist — SV-CNI-260116-002 - Instandsetzung Firsthohlstellen\, Tragwer
DESCRIPTION:Phase: Ausschreibung | Beschreibung: Angebote werden eingeholt | Link: https://ausschreibungsradar.com/ausschreibung/160d2fc2-690a-4cf1-baa9-6f25651213bc/
URL:https://ausschreibungsradar.com/ausschreibung/160d2fc2-690a-4cf1-baa9-6f25651213bc/
END:VEVENT
END:VCALENDAR
