BEGIN:VCALENDAR
VERSION:2.0
PRODID:-//AusschreibungsRadar//Timeline//DE
CALSCALE:GREGORIAN
METHOD:PUBLISH
X-WR-CALNAME:Projekt Lieferung zweier Storagesysteme NetApp ASAA50, vier Cisco SA
X-WR-TIMEZONE:Europe/Berlin
BEGIN:VEVENT
UID:55258a0354e3d0c1@ausschreibungsradar.com
DTSTAMP:20260425T124253Z
DTSTART;VALUE=DATE:20250926
DTEND;VALUE=DATE:20250926
SUMMARY:Angebotsfrist — Lieferung zweier Storagesysteme NetApp ASAA50\, vier Cisco SA
DESCRIPTION:Phase: Ausschreibung | Beschreibung: Angebote werden eingeholt | Link: https://ausschreibungsradar.com/ausschreibung/1644b4f3-8d20-42f4-a3f4-c902d4cdf9c4/
URL:https://ausschreibungsradar.com/ausschreibung/1644b4f3-8d20-42f4-a3f4-c902d4cdf9c4/
END:VEVENT
BEGIN:VEVENT
UID:98094a31f69c0c90@ausschreibungsradar.com
DTSTAMP:20260425T124253Z
DTSTART;VALUE=DATE:20251106
DTEND;VALUE=DATE:20251106
SUMMARY:Vergabeergebnis — Lieferung zweier Storagesysteme NetApp ASAA50\, vier Cisco SA
DESCRIPTION:Phase: Vergabeergebnis | Beschreibung: Auftrag wurde zugeschlagen | Link: https://ausschreibungsradar.com/ausschreibung/99adf58f-0f81-4912-987a-c02f1ef1e3cd/
URL:https://ausschreibungsradar.com/ausschreibung/99adf58f-0f81-4912-987a-c02f1ef1e3cd/
END:VEVENT
END:VCALENDAR
