BEGIN:VCALENDAR
VERSION:2.0
PRODID:-//AusschreibungsRadar//Timeline//DE
CALSCALE:GREGORIAN
METHOD:PUBLISH
X-WR-CALNAME:Projekt Erweiterungsbau RealschulePlus Birkenfeld: Lieferung und Mon
X-WR-TIMEZONE:Europe/Berlin
BEGIN:VEVENT
UID:fdf8065770465946@ausschreibungsradar.com
DTSTAMP:20260425T151623Z
DTSTART;VALUE=DATE:20250805
DTEND;VALUE=DATE:20250805
SUMMARY:Angebotsfrist — Erweiterungsbau RealschulePlus Birkenfeld: Lieferung und Mon
DESCRIPTION:Phase: Ausschreibung | Beschreibung: Angebote werden eingeholt | Link: https://ausschreibungsradar.com/ausschreibung/3ce6802a-9836-4466-9ea7-272d404048b6/
URL:https://ausschreibungsradar.com/ausschreibung/3ce6802a-9836-4466-9ea7-272d404048b6/
END:VEVENT
BEGIN:VEVENT
UID:cab685c4b36acbd8@ausschreibungsradar.com
DTSTAMP:20260425T151623Z
DTSTART;VALUE=DATE:20250930
DTEND;VALUE=DATE:20250930
SUMMARY:Ausschreibung — Erweiterungsbau RealschulePlus Birkenfeld: Lieferung und Mon
DESCRIPTION:Phase: Ausschreibung | Beschreibung: Offizielle Ausschreibung mit Bieterfrist. | Link: https://ausschreibungsradar.com/ausschreibung/e3415973-c15a-462f-a6a5-146a2596edc5/
URL:https://ausschreibungsradar.com/ausschreibung/e3415973-c15a-462f-a6a5-146a2596edc5/
END:VEVENT
BEGIN:VEVENT
UID:8f30682b773640c8@ausschreibungsradar.com
DTSTAMP:20260425T151623Z
DTSTART;VALUE=DATE:20251002
DTEND;VALUE=DATE:20251002
SUMMARY:Zuschlag — Erweiterungsbau RealschulePlus Birkenfeld: Lieferung und Mon
DESCRIPTION:Phase: Zuschlag | Beschreibung: Vergabeergebnis — Auftrag wurde erteilt oder Verfahren beendet. | Link: https://ausschreibungsradar.com/ausschreibung/6106974d-d820-4348-a74e-dc4af6596223/
URL:https://ausschreibungsradar.com/ausschreibung/6106974d-d820-4348-a74e-dc4af6596223/
END:VEVENT
BEGIN:VEVENT
UID:34af43c6b957e366@ausschreibungsradar.com
DTSTAMP:20260425T151623Z
DTSTART;VALUE=DATE:20251007
DTEND;VALUE=DATE:20251007
SUMMARY:Vergabeergebnis — Erweiterungsbau RealschulePlus Birkenfeld: Lieferung und Mon
DESCRIPTION:Phase: Vergabeergebnis | Beschreibung: Auftrag wurde zugeschlagen | Link: https://ausschreibungsradar.com/ausschreibung/16e12201-50cd-499b-a665-1fecad876e62/
URL:https://ausschreibungsradar.com/ausschreibung/16e12201-50cd-499b-a665-1fecad876e62/
END:VEVENT
END:VCALENDAR
