BEGIN:VCALENDAR
VERSION:2.0
PRODID:-//AusschreibungsRadar//Timeline//DE
CALSCALE:GREGORIAN
METHOD:PUBLISH
X-WR-CALNAME:Projekt Lieferung und Betrieb von Angriffserkennungssystemen
X-WR-TIMEZONE:Europe/Berlin
BEGIN:VEVENT
UID:0eb165288f40aee1@ausschreibungsradar.com
DTSTAMP:20260425T190651Z
DTSTART;VALUE=DATE:20240719
DTEND;VALUE=DATE:20240719
SUMMARY:Ausschreibung — Lieferung und Betrieb von Angriffserkennungssystemen
DESCRIPTION:Phase: Ausschreibung | Beschreibung: Angebote werden eingeholt | Link: https://ausschreibungsradar.com/ausschreibung/16edc379-d4c3-4e57-a3e0-edeb72828547/
URL:https://ausschreibungsradar.com/ausschreibung/16edc379-d4c3-4e57-a3e0-edeb72828547/
END:VEVENT
BEGIN:VEVENT
UID:c3c52a801116fd46@ausschreibungsradar.com
DTSTAMP:20260425T190651Z
DTSTART;VALUE=DATE:20240719
DTEND;VALUE=DATE:20240719
SUMMARY:Ausschreibung — Lieferung und Betrieb von Angriffserkennungssystemen
DESCRIPTION:Phase: Ausschreibung | Beschreibung: Offizielle Ausschreibung mit Bieterfrist. | Link: https://ausschreibungsradar.com/ausschreibung/43a5b38f-2fb9-46e3-b6f8-351220f59999/
URL:https://ausschreibungsradar.com/ausschreibung/43a5b38f-2fb9-46e3-b6f8-351220f59999/
END:VEVENT
BEGIN:VEVENT
UID:40539f8cd93a3b38@ausschreibungsradar.com
DTSTAMP:20260425T190651Z
DTSTART;VALUE=DATE:20240723
DTEND;VALUE=DATE:20240723
SUMMARY:Ausschreibung — Lieferung und Betrieb von Angriffserkennungssystemen
DESCRIPTION:Phase: Ausschreibung | Beschreibung: Offizielle Ausschreibung mit Bieterfrist. | Link: https://ausschreibungsradar.com/ausschreibung/ted-442047-2024/
URL:https://ausschreibungsradar.com/ausschreibung/ted-442047-2024/
END:VEVENT
BEGIN:VEVENT
UID:48a2a28a2ded20b7@ausschreibungsradar.com
DTSTAMP:20260425T190651Z
DTSTART;VALUE=DATE:20250709
DTEND;VALUE=DATE:20250709
SUMMARY:Vergabeergebnis — Lieferung und Betrieb von Angriffserkennungssystemen
DESCRIPTION:Phase: Vergabeergebnis | Beschreibung: Auftrag wurde zugeschlagen | Link: https://ausschreibungsradar.com/ausschreibung/1d4a3cd1-79e9-4d9b-851d-526e6cde5eaa/
URL:https://ausschreibungsradar.com/ausschreibung/1d4a3cd1-79e9-4d9b-851d-526e6cde5eaa/
END:VEVENT
END:VCALENDAR
