BEGIN:VCALENDAR
VERSION:2.0
PRODID:-//AusschreibungsRadar//Timeline//DE
CALSCALE:GREGORIAN
METHOD:PUBLISH
X-WR-CALNAME:Projekt Krankenhaus Friedberg; Kontingentmaßnahme Notaufnahme und En
X-WR-TIMEZONE:Europe/Berlin
BEGIN:VEVENT
UID:0f5ff4c02ca20c67@ausschreibungsradar.com
DTSTAMP:20260424T050041Z
DTSTART;VALUE=DATE:20240430
DTEND;VALUE=DATE:20240430
SUMMARY:Angebotsfrist — Krankenhaus Friedberg\; Kontingentmaßnahme Notaufnahme und En
DESCRIPTION:Phase: Ausschreibung | Beschreibung: Angebote werden eingeholt | Link: https://ausschreibungsradar.com/ausschreibung/1701cfc5-ef30-4b76-a24a-ded3a940a9f2/
URL:https://ausschreibungsradar.com/ausschreibung/1701cfc5-ef30-4b76-a24a-ded3a940a9f2/
END:VEVENT
BEGIN:VEVENT
UID:8b529f30193c2819@ausschreibungsradar.com
DTSTAMP:20260424T050041Z
DTSTART;VALUE=DATE:20240328
DTEND;VALUE=DATE:20240328
SUMMARY:Ausschreibung — Krankenhaus Friedberg\; Kontingentmaßnahme Notaufnahme und En
DESCRIPTION:Phase: Ausschreibung | Beschreibung: Offizielle Ausschreibung mit Bieterfrist. | Link: https://ausschreibungsradar.com/ausschreibung/3525fbea-81e5-4e65-8010-ad6c424b25d4/
URL:https://ausschreibungsradar.com/ausschreibung/3525fbea-81e5-4e65-8010-ad6c424b25d4/
END:VEVENT
BEGIN:VEVENT
UID:38b14ce4ee915e88@ausschreibungsradar.com
DTSTAMP:20260424T050041Z
DTSTART;VALUE=DATE:20240328
DTEND;VALUE=DATE:20240328
SUMMARY:Ausschreibung — Krankenhaus Friedberg\; Kontingentmaßnahme Notaufnahme und En
DESCRIPTION:Phase: Ausschreibung | Beschreibung: Offizielle Ausschreibung mit Bieterfrist. | Link: https://ausschreibungsradar.com/ausschreibung/a4b23eaf-3f4e-4e3c-a106-323ca7965a6a/
URL:https://ausschreibungsradar.com/ausschreibung/a4b23eaf-3f4e-4e3c-a106-323ca7965a6a/
END:VEVENT
BEGIN:VEVENT
UID:33a026e315058c9c@ausschreibungsradar.com
DTSTAMP:20260424T050041Z
DTSTART;VALUE=DATE:20240711
DTEND;VALUE=DATE:20240711
SUMMARY:Vergabeergebnis — Krankenhaus Friedberg\; Kontingentmaßnahme Notaufnahme und En
DESCRIPTION:Phase: Vergabeergebnis | Beschreibung: Auftrag wurde zugeschlagen | Link: https://ausschreibungsradar.com/ausschreibung/cafc5157-5c12-48dc-98fe-3d1f134a7c7c/
URL:https://ausschreibungsradar.com/ausschreibung/cafc5157-5c12-48dc-98fe-3d1f134a7c7c/
END:VEVENT
END:VCALENDAR
