BEGIN:VCALENDAR
VERSION:2.0
PRODID:-//AusschreibungsRadar//Timeline//DE
CALSCALE:GREGORIAN
METHOD:PUBLISH
X-WR-CALNAME:Projekt Mietverträge über Nachlauf- und Aufsitzreinigungsgeräte sowi
X-WR-TIMEZONE:Europe/Berlin
BEGIN:VEVENT
UID:169bf736a0107461@ausschreibungsradar.com
DTSTAMP:20260425T163228Z
DTSTART;VALUE=DATE:20240718
DTEND;VALUE=DATE:20240718
SUMMARY:Angebotsfrist — Mietverträge über Nachlauf- und Aufsitzreinigungsgeräte sowi
DESCRIPTION:Phase: Ausschreibung | Beschreibung: Angebote werden eingeholt | Link: https://ausschreibungsradar.com/ausschreibung/172a7f82-d292-4733-a8b4-fbfd6e4af807/
URL:https://ausschreibungsradar.com/ausschreibung/172a7f82-d292-4733-a8b4-fbfd6e4af807/
END:VEVENT
BEGIN:VEVENT
UID:c7872fcfab0bee2d@ausschreibungsradar.com
DTSTAMP:20260425T163228Z
DTSTART;VALUE=DATE:20240619
DTEND;VALUE=DATE:20240619
SUMMARY:Ausschreibung — Mietverträge über Nachlauf- und Aufsitzreinigungsgeräte sowi
DESCRIPTION:Phase: Ausschreibung | Beschreibung: Offizielle Ausschreibung mit Bieterfrist. | Link: https://ausschreibungsradar.com/ausschreibung/56498986-5aa4-41bc-961c-5f5c96b18abf/
URL:https://ausschreibungsradar.com/ausschreibung/56498986-5aa4-41bc-961c-5f5c96b18abf/
END:VEVENT
BEGIN:VEVENT
UID:b1f57cf263ca5bf5@ausschreibungsradar.com
DTSTAMP:20260425T163228Z
DTSTART;VALUE=DATE:20250108
DTEND;VALUE=DATE:20250108
SUMMARY:Vergabeergebnis — Mietverträge über Nachlauf- und Aufsitzreinigungsgeräte sowi
DESCRIPTION:Phase: Vergabeergebnis | Beschreibung: Auftrag wurde zugeschlagen | Link: https://ausschreibungsradar.com/ausschreibung/abc49f8a-ce3c-495b-b801-4217ac60607f/
URL:https://ausschreibungsradar.com/ausschreibung/abc49f8a-ce3c-495b-b801-4217ac60607f/
END:VEVENT
BEGIN:VEVENT
UID:2f837aa44392840f@ausschreibungsradar.com
DTSTAMP:20260425T163228Z
DTSTART;VALUE=DATE:20250108
DTEND;VALUE=DATE:20250108
SUMMARY:Zuschlag — Mietverträge über Nachlauf- und Aufsitzreinigungsgeräte sowi
DESCRIPTION:Phase: Zuschlag | Beschreibung: Vergabeergebnis — Auftrag wurde erteilt oder Verfahren beendet. | Link: https://ausschreibungsradar.com/ausschreibung/b9c20aa6-6009-4368-934d-73b1772c8a93/
URL:https://ausschreibungsradar.com/ausschreibung/b9c20aa6-6009-4368-934d-73b1772c8a93/
END:VEVENT
END:VCALENDAR
