BEGIN:VCALENDAR
VERSION:2.0
PRODID:-//AusschreibungsRadar//Timeline//DE
CALSCALE:GREGORIAN
METHOD:PUBLISH
X-WR-CALNAME:Projekt Spezialtiefbau
X-WR-TIMEZONE:Europe/Berlin
BEGIN:VEVENT
UID:4e525d5bd7ab80a9@ausschreibungsradar.com
DTSTAMP:20260425T190244Z
DTSTART;VALUE=DATE:20260505
DTEND;VALUE=DATE:20260505
SUMMARY:Angebotsfrist — Spezialtiefbau
DESCRIPTION:Phase: Ausschreibung | Beschreibung: Angebote werden eingeholt | Link: https://ausschreibungsradar.com/ausschreibung/174e78a0-0833-4f8b-a67b-b13f553afb3f/
URL:https://ausschreibungsradar.com/ausschreibung/174e78a0-0833-4f8b-a67b-b13f553afb3f/
END:VEVENT
BEGIN:VEVENT
UID:19a4d8332b4b101a@ausschreibungsradar.com
DTSTAMP:20260425T190244Z
DTSTART;VALUE=DATE:20260407
DTEND;VALUE=DATE:20260407
SUMMARY:Ausschreibung — Spezialtiefbau
DESCRIPTION:Phase: Ausschreibung | Beschreibung: Offizielle Ausschreibung mit Bieterfrist. | Link: https://ausschreibungsradar.com/ausschreibung/ted-234179-2026/
URL:https://ausschreibungsradar.com/ausschreibung/ted-234179-2026/
END:VEVENT
END:VCALENDAR
