BEGIN:VCALENDAR
VERSION:2.0
PRODID:-//AusschreibungsRadar//Timeline//DE
CALSCALE:GREGORIAN
METHOD:PUBLISH
X-WR-CALNAME:Projekt Lieferung eines Schmalspurfahrzeugs bis max. 1.400 mm Außenb
X-WR-TIMEZONE:Europe/Berlin
BEGIN:VEVENT
UID:20d1129de4561e8e@ausschreibungsradar.com
DTSTAMP:20260424T020526Z
DTSTART;VALUE=DATE:20220420
DTEND;VALUE=DATE:20220420
SUMMARY:Ausschreibung — Lieferung eines Schmalspurfahrzeugs bis max. 1.400 mm Außenb
DESCRIPTION:Phase: Ausschreibung | Beschreibung: Offizielle Ausschreibung mit Bieterfrist. | Link: https://ausschreibungsradar.com/ausschreibung/17759536/
URL:https://ausschreibungsradar.com/ausschreibung/17759536/
END:VEVENT
BEGIN:VEVENT
UID:efa3c0683a9ae03f@ausschreibungsradar.com
DTSTAMP:20260424T020526Z
DTSTART;VALUE=DATE:20220422
DTEND;VALUE=DATE:20220422
SUMMARY:Ausschreibung — Lieferung eines Schmalspurfahrzeugs bis max. 1.400 mm Außenb
DESCRIPTION:Phase: Ausschreibung | Beschreibung: Offizielle Ausschreibung mit Bieterfrist. | Link: https://ausschreibungsradar.com/ausschreibung/17773044/
URL:https://ausschreibungsradar.com/ausschreibung/17773044/
END:VEVENT
BEGIN:VEVENT
UID:b1f4135ea93e7dfa@ausschreibungsradar.com
DTSTAMP:20260424T020526Z
DTSTART;VALUE=DATE:20220511
DTEND;VALUE=DATE:20220511
SUMMARY:Ausschreibung — Lieferung eines Schmalspurfahrzeugs bis max. 1.400 mm Außenb
DESCRIPTION:Phase: Ausschreibung | Beschreibung: Offizielle Ausschreibung mit Bieterfrist. | Link: https://ausschreibungsradar.com/ausschreibung/17883238/
URL:https://ausschreibungsradar.com/ausschreibung/17883238/
END:VEVENT
END:VCALENDAR
