BEGIN:VCALENDAR
VERSION:2.0
PRODID:-//AusschreibungsRadar//Timeline//DE
CALSCALE:GREGORIAN
METHOD:PUBLISH
X-WR-CALNAME:Projekt RAD2021-612 Instandsetzung Kranbrücke
X-WR-TIMEZONE:Europe/Berlin
BEGIN:VEVENT
UID:fe245d6b54a9282c@ausschreibungsradar.com
DTSTAMP:20260424T035039Z
DTSTART;VALUE=DATE:20220525
DTEND;VALUE=DATE:20220525
SUMMARY:Ausschreibung — RAD2021-612 Instandsetzung Kranbrücke
DESCRIPTION:Phase: Ausschreibung | Beschreibung: Offizielle Ausschreibung mit Bieterfrist. | Link: https://ausschreibungsradar.com/ausschreibung/17957226/
URL:https://ausschreibungsradar.com/ausschreibung/17957226/
END:VEVENT
BEGIN:VEVENT
UID:1e323f1e1dc597e6@ausschreibungsradar.com
DTSTAMP:20260424T035039Z
DTSTART;VALUE=DATE:20220608
DTEND;VALUE=DATE:20220608
SUMMARY:Ausschreibung — RAD2021-612 Instandsetzung Kranbrücke
DESCRIPTION:Phase: Ausschreibung | Beschreibung: Offizielle Ausschreibung mit Bieterfrist. | Link: https://ausschreibungsradar.com/ausschreibung/18022924/
URL:https://ausschreibungsradar.com/ausschreibung/18022924/
END:VEVENT
END:VCALENDAR
