BEGIN:VCALENDAR
VERSION:2.0
PRODID:-//AusschreibungsRadar//Timeline//DE
CALSCALE:GREGORIAN
METHOD:PUBLISH
X-WR-CALNAME:Projekt Bäderausstattung - Sanierung der Schwimmhalle in Haldenslebe
X-WR-TIMEZONE:Europe/Berlin
BEGIN:VEVENT
UID:0a38d1a58955085d@ausschreibungsradar.com
DTSTAMP:20260424T020409Z
DTSTART;VALUE=DATE:20220531
DTEND;VALUE=DATE:20220531
SUMMARY:Ausschreibung — Bäderausstattung - Sanierung der Schwimmhalle in Haldenslebe
DESCRIPTION:Phase: Ausschreibung | Beschreibung: Offizielle Ausschreibung mit Bieterfrist. | Link: https://ausschreibungsradar.com/ausschreibung/17980634/
URL:https://ausschreibungsradar.com/ausschreibung/17980634/
END:VEVENT
BEGIN:VEVENT
UID:42204f4a023f1d54@ausschreibungsradar.com
DTSTAMP:20260424T020409Z
DTSTART;VALUE=DATE:20220602
DTEND;VALUE=DATE:20220602
SUMMARY:Ausschreibung — Bäderausstattung - Sanierung der Schwimmhalle in Haldenslebe
DESCRIPTION:Phase: Ausschreibung | Beschreibung: Offizielle Ausschreibung mit Bieterfrist. | Link: https://ausschreibungsradar.com/ausschreibung/17995264/
URL:https://ausschreibungsradar.com/ausschreibung/17995264/
END:VEVENT
END:VCALENDAR
