BEGIN:VCALENDAR
VERSION:2.0
PRODID:-//AusschreibungsRadar//Timeline//DE
CALSCALE:GREGORIAN
METHOD:PUBLISH
X-WR-CALNAME:Projekt Naturerlebniszentrum Döberitzer Heide
X-WR-TIMEZONE:Europe/Berlin
BEGIN:VEVENT
UID:7d68e639ff2a46cc@ausschreibungsradar.com
DTSTAMP:20260424T000920Z
DTSTART;VALUE=DATE:20220510
DTEND;VALUE=DATE:20220510
SUMMARY:Zuschlag — Naturerlebniszentrum Döberitzer Heide
DESCRIPTION:Phase: Zuschlag | Beschreibung: Vergabeergebnis — Auftrag wurde erteilt oder Verfahren beendet. | Link: https://ausschreibungsradar.com/ausschreibung/17875456/
URL:https://ausschreibungsradar.com/ausschreibung/17875456/
END:VEVENT
BEGIN:VEVENT
UID:2a04f8ef32507eee@ausschreibungsradar.com
DTSTAMP:20260424T000920Z
DTSTART;VALUE=DATE:20220510
DTEND;VALUE=DATE:20220510
SUMMARY:Zuschlag — Naturerlebniszentrum Döberitzer Heide
DESCRIPTION:Phase: Zuschlag | Beschreibung: Vergabeergebnis — Auftrag wurde erteilt oder Verfahren beendet. | Link: https://ausschreibungsradar.com/ausschreibung/17875444/
URL:https://ausschreibungsradar.com/ausschreibung/17875444/
END:VEVENT
BEGIN:VEVENT
UID:33fedaf0eb186361@ausschreibungsradar.com
DTSTAMP:20260424T000920Z
DTSTART;VALUE=DATE:20220609
DTEND;VALUE=DATE:20220609
SUMMARY:Ausschreibung — Naturerlebniszentrum Döberitzer Heide
DESCRIPTION:Phase: Ausschreibung | Beschreibung: Offizielle Ausschreibung mit Bieterfrist. | Link: https://ausschreibungsradar.com/ausschreibung/18036920/
URL:https://ausschreibungsradar.com/ausschreibung/18036920/
END:VEVENT
BEGIN:VEVENT
UID:b55ad3b6fbb888f8@ausschreibungsradar.com
DTSTAMP:20260424T000920Z
DTSTART;VALUE=DATE:20220627
DTEND;VALUE=DATE:20220627
SUMMARY:Ausschreibung — Naturerlebniszentrum Döberitzer Heide
DESCRIPTION:Phase: Ausschreibung | Beschreibung: Offizielle Ausschreibung mit Bieterfrist. | Link: https://ausschreibungsradar.com/ausschreibung/18138222/
URL:https://ausschreibungsradar.com/ausschreibung/18138222/
END:VEVENT
END:VCALENDAR
