BEGIN:VCALENDAR
VERSION:2.0
PRODID:-//AusschreibungsRadar//Timeline//DE
CALSCALE:GREGORIAN
METHOD:PUBLISH
X-WR-CALNAME:Projekt Neubau eines Kindergartens Freibadweg, PV-Dachanlage
X-WR-TIMEZONE:Europe/Berlin
BEGIN:VEVENT
UID:4eaae0fecebab31a@ausschreibungsradar.com
DTSTAMP:20260424T124203Z
DTSTART;VALUE=DATE:20220602
DTEND;VALUE=DATE:20220602
SUMMARY:Ausschreibung — Neubau eines Kindergartens Freibadweg\, PV-Dachanlage
DESCRIPTION:Phase: Ausschreibung | Beschreibung: Offizielle Ausschreibung mit Bieterfrist. | Link: https://ausschreibungsradar.com/ausschreibung/18009166/
URL:https://ausschreibungsradar.com/ausschreibung/18009166/
END:VEVENT
BEGIN:VEVENT
UID:12c3880ba932c6bb@ausschreibungsradar.com
DTSTAMP:20260424T124203Z
DTSTART;VALUE=DATE:20220623
DTEND;VALUE=DATE:20220623
SUMMARY:Zuschlag — Neubau eines Kindergartens Freibadweg\, PV-Dachanlage
DESCRIPTION:Phase: Zuschlag | Beschreibung: Vergabeergebnis — Auftrag wurde erteilt oder Verfahren beendet. | Link: https://ausschreibungsradar.com/ausschreibung/18116698/
URL:https://ausschreibungsradar.com/ausschreibung/18116698/
END:VEVENT
END:VCALENDAR
