BEGIN:VCALENDAR
VERSION:2.0
PRODID:-//AusschreibungsRadar//Timeline//DE
CALSCALE:GREGORIAN
METHOD:PUBLISH
X-WR-CALNAME:Projekt Breitbandausbau FttB Neresheim
X-WR-TIMEZONE:Europe/Berlin
BEGIN:VEVENT
UID:32dad748ad351b0f@ausschreibungsradar.com
DTSTAMP:20260425T012719Z
DTSTART;VALUE=DATE:20220727
DTEND;VALUE=DATE:20220727
SUMMARY:Ausschreibung — Breitbandausbau FttB Neresheim
DESCRIPTION:Phase: Ausschreibung | Beschreibung: Offizielle Ausschreibung mit Bieterfrist. | Link: https://ausschreibungsradar.com/ausschreibung/18318760/
URL:https://ausschreibungsradar.com/ausschreibung/18318760/
END:VEVENT
BEGIN:VEVENT
UID:d404211dfb0d0008@ausschreibungsradar.com
DTSTAMP:20260425T012719Z
DTSTART;VALUE=DATE:20220802
DTEND;VALUE=DATE:20220802
SUMMARY:Ausschreibung — Breitbandausbau FttB Neresheim
DESCRIPTION:Phase: Ausschreibung | Beschreibung: Offizielle Ausschreibung mit Bieterfrist. | Link: https://ausschreibungsradar.com/ausschreibung/18352644/
URL:https://ausschreibungsradar.com/ausschreibung/18352644/
END:VEVENT
END:VCALENDAR
