BEGIN:VCALENDAR
VERSION:2.0
PRODID:-//AusschreibungsRadar//Timeline//DE
CALSCALE:GREGORIAN
METHOD:PUBLISH
X-WR-CALNAME:Projekt Neubau, Umbau und Erweiterung eines Kindergartens
X-WR-TIMEZONE:Europe/Berlin
BEGIN:VEVENT
UID:1d38a66c03de50e5@ausschreibungsradar.com
DTSTAMP:20260425T103446Z
DTSTART;VALUE=DATE:20220804
DTEND;VALUE=DATE:20220804
SUMMARY:Ausschreibung — Neubau\, Umbau und Erweiterung eines Kindergartens
DESCRIPTION:Phase: Ausschreibung | Beschreibung: Offizielle Ausschreibung mit Bieterfrist. | Link: https://ausschreibungsradar.com/ausschreibung/18356738/
URL:https://ausschreibungsradar.com/ausschreibung/18356738/
END:VEVENT
BEGIN:VEVENT
UID:2011aebeb605beb4@ausschreibungsradar.com
DTSTAMP:20260425T103446Z
DTSTART;VALUE=DATE:20220804
DTEND;VALUE=DATE:20220804
SUMMARY:Ausschreibung — Neubau\, Umbau und Erweiterung eines Kindergartens
DESCRIPTION:Phase: Ausschreibung | Beschreibung: Offizielle Ausschreibung mit Bieterfrist. | Link: https://ausschreibungsradar.com/ausschreibung/18356746/
URL:https://ausschreibungsradar.com/ausschreibung/18356746/
END:VEVENT
END:VCALENDAR
