BEGIN:VCALENDAR
VERSION:2.0
PRODID:-//AusschreibungsRadar//Timeline//DE
CALSCALE:GREGORIAN
METHOD:PUBLISH
X-WR-CALNAME:Projekt 5423244A_G - Weilerswist - HLF10/HLF20
X-WR-TIMEZONE:Europe/Berlin
BEGIN:VEVENT
UID:acd3fd3887d53dde@ausschreibungsradar.com
DTSTAMP:20260425T211833Z
DTSTART;VALUE=DATE:20250514
DTEND;VALUE=DATE:20250514
SUMMARY:Zuschlag — 5423244A_G - Weilerswist - HLF10/HLF20
DESCRIPTION:Phase: Zuschlag | Beschreibung: Vergabeergebnis — Auftrag wurde erteilt oder Verfahren beendet. | Link: https://ausschreibungsradar.com/ausschreibung/1ec2f3e1-8baa-45a2-a5ee-d9eb403e5b6a/
URL:https://ausschreibungsradar.com/ausschreibung/1ec2f3e1-8baa-45a2-a5ee-d9eb403e5b6a/
END:VEVENT
BEGIN:VEVENT
UID:6947e4d5dbecc6bc@ausschreibungsradar.com
DTSTAMP:20260425T211833Z
DTSTART;VALUE=DATE:20250516
DTEND;VALUE=DATE:20250516
SUMMARY:Ausschreibung — 5423244A_G - Weilerswist - HLF10/HLF20
DESCRIPTION:Phase: Ausschreibung | Beschreibung: Offizielle Ausschreibung mit Bieterfrist. | Link: https://ausschreibungsradar.com/ausschreibung/42385119-aa92-4b3d-9f69-1a7feb54a19c/
URL:https://ausschreibungsradar.com/ausschreibung/42385119-aa92-4b3d-9f69-1a7feb54a19c/
END:VEVENT
BEGIN:VEVENT
UID:7a04109acad1b918@ausschreibungsradar.com
DTSTAMP:20260425T211833Z
DTSTART;VALUE=DATE:20250516
DTEND;VALUE=DATE:20250516
SUMMARY:Zuschlag — 5423244A_G - Weilerswist - HLF10/HLF20
DESCRIPTION:Phase: Zuschlag | Beschreibung: Vergabeergebnis — Auftrag wurde erteilt oder Verfahren beendet. | Link: https://ausschreibungsradar.com/ausschreibung/e8ef88af-2531-4933-ba0c-59c1dd5d4499/
URL:https://ausschreibungsradar.com/ausschreibung/e8ef88af-2531-4933-ba0c-59c1dd5d4499/
END:VEVENT
BEGIN:VEVENT
UID:e36851e952884bf6@ausschreibungsradar.com
DTSTAMP:20260425T211833Z
DTSTART;VALUE=DATE:20250517
DTEND;VALUE=DATE:20250517
SUMMARY:Vergabeergebnis — 5423244A_G - Weilerswist - HLF10/HLF20
DESCRIPTION:Phase: Vergabeergebnis | Beschreibung: Auftrag wurde zugeschlagen | Link: https://ausschreibungsradar.com/ausschreibung/45536120-d40c-4fb4-b4f8-6fc846c89f69/
URL:https://ausschreibungsradar.com/ausschreibung/45536120-d40c-4fb4-b4f8-6fc846c89f69/
END:VEVENT
BEGIN:VEVENT
UID:d7817c024a60dc11@ausschreibungsradar.com
DTSTAMP:20260425T211833Z
DTSTART;VALUE=DATE:20250618
DTEND;VALUE=DATE:20250618
SUMMARY:Angebotsfrist — 5423244A_G - Weilerswist - HLF10/HLF20
DESCRIPTION:Phase: Ausschreibung | Beschreibung: Angebote werden eingeholt | Link: https://ausschreibungsradar.com/ausschreibung/184a7cec-27c6-40be-ba0c-daf9c251cc82/
URL:https://ausschreibungsradar.com/ausschreibung/184a7cec-27c6-40be-ba0c-daf9c251cc82/
END:VEVENT
BEGIN:VEVENT
UID:9fcf1c1b914ce34f@ausschreibungsradar.com
DTSTAMP:20260425T211833Z
DTSTART;VALUE=DATE:20250602
DTEND;VALUE=DATE:20250602
SUMMARY:Ausschreibung — 5423244A_G - Weilerswist - HLF10/HLF20
DESCRIPTION:Phase: Ausschreibung | Beschreibung: Offizielle Ausschreibung mit Bieterfrist. | Link: https://ausschreibungsradar.com/ausschreibung/2183ce9d-435c-48ad-96f7-8f23b88edce7/
URL:https://ausschreibungsradar.com/ausschreibung/2183ce9d-435c-48ad-96f7-8f23b88edce7/
END:VEVENT
END:VCALENDAR
