BEGIN:VCALENDAR
VERSION:2.0
PRODID:-//AusschreibungsRadar//Timeline//DE
CALSCALE:GREGORIAN
METHOD:PUBLISH
X-WR-CALNAME:Projekt Vergebener Auftrag gemäß §19(2) VOL/A
X-WR-TIMEZONE:Europe/Berlin
BEGIN:VEVENT
UID:43b9c24665fd7495@ausschreibungsradar.com
DTSTAMP:20260425T102409Z
DTSTART;VALUE=DATE:20220831
DTEND;VALUE=DATE:20220831
SUMMARY:Zuschlag — Vergebener Auftrag gemäß §19(2) VOL/A
DESCRIPTION:Phase: Zuschlag | Beschreibung: Vergabeergebnis — Auftrag wurde erteilt oder Verfahren beendet. | Link: https://ausschreibungsradar.com/ausschreibung/18513626/
URL:https://ausschreibungsradar.com/ausschreibung/18513626/
END:VEVENT
BEGIN:VEVENT
UID:d680e2f98b388154@ausschreibungsradar.com
DTSTAMP:20260425T102409Z
DTSTART;VALUE=DATE:20220907
DTEND;VALUE=DATE:20220907
SUMMARY:Zuschlag — Vergebener Auftrag gemäß §19(2) VOL/A
DESCRIPTION:Phase: Zuschlag | Beschreibung: Vergabeergebnis — Auftrag wurde erteilt oder Verfahren beendet. | Link: https://ausschreibungsradar.com/ausschreibung/18551356/
URL:https://ausschreibungsradar.com/ausschreibung/18551356/
END:VEVENT
END:VCALENDAR
