BEGIN:VCALENDAR
VERSION:2.0
PRODID:-//AusschreibungsRadar//Timeline//DE
CALSCALE:GREGORIAN
METHOD:PUBLISH
X-WR-CALNAME:Projekt Anbau an eine Kita in Naumburg - Maurer- und Rohbauarbeiten
X-WR-TIMEZONE:Europe/Berlin
BEGIN:VEVENT
UID:2098f3640568f545@ausschreibungsradar.com
DTSTAMP:20260426T015057Z
DTSTART;VALUE=DATE:20220913
DTEND;VALUE=DATE:20220913
SUMMARY:Ausschreibung — Anbau an eine Kita in Naumburg - Maurer- und Rohbauarbeiten
DESCRIPTION:Phase: Ausschreibung | Beschreibung: Offizielle Ausschreibung mit Bieterfrist. | Link: https://ausschreibungsradar.com/ausschreibung/18574664/
URL:https://ausschreibungsradar.com/ausschreibung/18574664/
END:VEVENT
BEGIN:VEVENT
UID:9b45b6ada1b2f620@ausschreibungsradar.com
DTSTAMP:20260426T015057Z
DTSTART;VALUE=DATE:20220913
DTEND;VALUE=DATE:20220913
SUMMARY:Ausschreibung — Anbau an eine Kita in Naumburg - Maurer- und Rohbauarbeiten
DESCRIPTION:Phase: Ausschreibung | Beschreibung: Offizielle Ausschreibung mit Bieterfrist. | Link: https://ausschreibungsradar.com/ausschreibung/18574680/
URL:https://ausschreibungsradar.com/ausschreibung/18574680/
END:VEVENT
END:VCALENDAR
