BEGIN:VCALENDAR
VERSION:2.0
PRODID:-//AusschreibungsRadar//Timeline//DE
CALSCALE:GREGORIAN
METHOD:PUBLISH
X-WR-CALNAME:Projekt Ersatzneubau Brückenbauwerke (BIM) Los 1
X-WR-TIMEZONE:Europe/Berlin
BEGIN:VEVENT
UID:eb6c8aa1b8667636@ausschreibungsradar.com
DTSTAMP:20260425T103426Z
DTSTART;VALUE=DATE:20221014
DTEND;VALUE=DATE:20221014
SUMMARY:Änderung — Ersatzneubau Brückenbauwerke (BIM) Los 1
DESCRIPTION:Phase: Änderung | Beschreibung: Nachtrag oder Korrektur zur Bekanntmachung. | Link: https://ausschreibungsradar.com/ausschreibung/18761598/
URL:https://ausschreibungsradar.com/ausschreibung/18761598/
END:VEVENT
BEGIN:VEVENT
UID:c894cafc23381371@ausschreibungsradar.com
DTSTAMP:20260425T103426Z
DTSTART;VALUE=DATE:20221014
DTEND;VALUE=DATE:20221014
SUMMARY:Ausschreibung — Ersatzneubau Brückenbauwerke (BIM) Los 1
DESCRIPTION:Phase: Ausschreibung | Beschreibung: Offizielle Ausschreibung mit Bieterfrist. | Link: https://ausschreibungsradar.com/ausschreibung/18761618/
URL:https://ausschreibungsradar.com/ausschreibung/18761618/
END:VEVENT
END:VCALENDAR
