BEGIN:VCALENDAR
VERSION:2.0
PRODID:-//AusschreibungsRadar//Timeline//DE
CALSCALE:GREGORIAN
METHOD:PUBLISH
X-WR-CALNAME:Projekt Neubau Pflegeheim Mettnau - Verputzarbeiten innen/außen
X-WR-TIMEZONE:Europe/Berlin
BEGIN:VEVENT
UID:2c4951f4049b6ab2@ausschreibungsradar.com
DTSTAMP:20260424T124156Z
DTSTART;VALUE=DATE:20221026
DTEND;VALUE=DATE:20221026
SUMMARY:Ausschreibung — Neubau Pflegeheim Mettnau - Verputzarbeiten innen/außen
DESCRIPTION:Phase: Ausschreibung | Beschreibung: Offizielle Ausschreibung mit Bieterfrist. | Link: https://ausschreibungsradar.com/ausschreibung/18827498/
URL:https://ausschreibungsradar.com/ausschreibung/18827498/
END:VEVENT
BEGIN:VEVENT
UID:5a08179782955b3e@ausschreibungsradar.com
DTSTAMP:20260424T124156Z
DTSTART;VALUE=DATE:20221027
DTEND;VALUE=DATE:20221027
SUMMARY:Ausschreibung — Neubau Pflegeheim Mettnau - Verputzarbeiten innen/außen
DESCRIPTION:Phase: Ausschreibung | Beschreibung: Offizielle Ausschreibung mit Bieterfrist. | Link: https://ausschreibungsradar.com/ausschreibung/18844080/
URL:https://ausschreibungsradar.com/ausschreibung/18844080/
END:VEVENT
END:VCALENDAR
