BEGIN:VCALENDAR
VERSION:2.0
PRODID:-//AusschreibungsRadar//Timeline//DE
CALSCALE:GREGORIAN
METHOD:PUBLISH
X-WR-CALNAME:Projekt Ersatzneubau Brückenbauwerke (BIM) Los 3 - Gebietslos Regier
X-WR-TIMEZONE:Europe/Berlin
BEGIN:VEVENT
UID:c894cafc23381371@ausschreibungsradar.com
DTSTAMP:20260425T131201Z
DTSTART;VALUE=DATE:20221014
DTEND;VALUE=DATE:20221014
SUMMARY:Ausschreibung — Ersatzneubau Brückenbauwerke (BIM) Los 3 - Gebietslos Regier
DESCRIPTION:Phase: Ausschreibung | Beschreibung: Offizielle Ausschreibung mit Bieterfrist. | Link: https://ausschreibungsradar.com/ausschreibung/18761618/
URL:https://ausschreibungsradar.com/ausschreibung/18761618/
END:VEVENT
BEGIN:VEVENT
UID:6a690d9528762674@ausschreibungsradar.com
DTSTAMP:20260425T131201Z
DTSTART;VALUE=DATE:20221109
DTEND;VALUE=DATE:20221109
SUMMARY:Ausschreibung — Ersatzneubau Brückenbauwerke (BIM) Los 3 - Gebietslos Regier
DESCRIPTION:Phase: Ausschreibung | Beschreibung: Offizielle Ausschreibung mit Bieterfrist. | Link: https://ausschreibungsradar.com/ausschreibung/18908344/
URL:https://ausschreibungsradar.com/ausschreibung/18908344/
END:VEVENT
END:VCALENDAR
