BEGIN:VCALENDAR
VERSION:2.0
PRODID:-//AusschreibungsRadar//Timeline//DE
CALSCALE:GREGORIAN
METHOD:PUBLISH
X-WR-CALNAME:Projekt Weserstraße 28-30_Lüftung Rückversetzung
X-WR-TIMEZONE:Europe/Berlin
BEGIN:VEVENT
UID:7c2fa4677b4ee324@ausschreibungsradar.com
DTSTAMP:20260424T143844Z
DTSTART;VALUE=DATE:20251022
DTEND;VALUE=DATE:20251022
SUMMARY:Angebotsfrist — Weserstraße 28-30_Lüftung Rückversetzung
DESCRIPTION:Phase: Ausschreibung | Beschreibung: Angebote werden eingeholt | Link: https://ausschreibungsradar.com/ausschreibung/18909705-8b62-4d0f-a13d-e5995d2042fe/
URL:https://ausschreibungsradar.com/ausschreibung/18909705-8b62-4d0f-a13d-e5995d2042fe/
END:VEVENT
BEGIN:VEVENT
UID:0b740cd514f3f092@ausschreibungsradar.com
DTSTAMP:20260424T143844Z
DTSTART;VALUE=DATE:20251222
DTEND;VALUE=DATE:20251222
SUMMARY:Vergabeergebnis — Weserstraße 28-30_Lüftung Rückversetzung
DESCRIPTION:Phase: Vergabeergebnis | Beschreibung: Auftrag wurde zugeschlagen | Link: https://ausschreibungsradar.com/ausschreibung/3821ca42-a7f3-4938-918f-7158375385ad/
URL:https://ausschreibungsradar.com/ausschreibung/3821ca42-a7f3-4938-918f-7158375385ad/
END:VEVENT
END:VCALENDAR
