BEGIN:VCALENDAR
VERSION:2.0
PRODID:-//AusschreibungsRadar//Timeline//DE
CALSCALE:GREGORIAN
METHOD:PUBLISH
X-WR-CALNAME:Projekt Bauhofleistungen der Stadt Dahlen im Ortsteil Großböhla, Vol
X-WR-TIMEZONE:Europe/Berlin
BEGIN:VEVENT
UID:c4e137be27be38d4@ausschreibungsradar.com
DTSTAMP:20260425T102406Z
DTSTART;VALUE=DATE:20221123
DTEND;VALUE=DATE:20221123
SUMMARY:Ausschreibung — Bauhofleistungen der Stadt Dahlen im Ortsteil Großböhla\, Vol
DESCRIPTION:Phase: Ausschreibung | Beschreibung: Offizielle Ausschreibung mit Bieterfrist. | Link: https://ausschreibungsradar.com/ausschreibung/18979102/
URL:https://ausschreibungsradar.com/ausschreibung/18979102/
END:VEVENT
BEGIN:VEVENT
UID:4c2f799cb03f1ec2@ausschreibungsradar.com
DTSTAMP:20260425T102406Z
DTSTART;VALUE=DATE:20221124
DTEND;VALUE=DATE:20221124
SUMMARY:Ausschreibung — Bauhofleistungen der Stadt Dahlen im Ortsteil Großböhla\, Vol
DESCRIPTION:Phase: Ausschreibung | Beschreibung: Offizielle Ausschreibung mit Bieterfrist. | Link: https://ausschreibungsradar.com/ausschreibung/18986156/
URL:https://ausschreibungsradar.com/ausschreibung/18986156/
END:VEVENT
END:VCALENDAR
