BEGIN:VCALENDAR
VERSION:2.0
PRODID:-//AusschreibungsRadar//Timeline//DE
CALSCALE:GREGORIAN
METHOD:PUBLISH
X-WR-CALNAME:Projekt Generalsanierung Grund- und Mittelschule Baunach
X-WR-TIMEZONE:Europe/Berlin
BEGIN:VEVENT
UID:95c268211447eead@ausschreibungsradar.com
DTSTAMP:20260426T004007Z
DTSTART;VALUE=DATE:20250227
DTEND;VALUE=DATE:20250227
SUMMARY:Angebotsfrist — Generalsanierung Grund- und Mittelschule Baunach
DESCRIPTION:Phase: Ausschreibung | Beschreibung: Angebote werden eingeholt | Link: https://ausschreibungsradar.com/ausschreibung/18c5aa53-5328-4e53-82a9-1e2b2d835eab/
URL:https://ausschreibungsradar.com/ausschreibung/18c5aa53-5328-4e53-82a9-1e2b2d835eab/
END:VEVENT
BEGIN:VEVENT
UID:ecc5c73a7f597eca@ausschreibungsradar.com
DTSTAMP:20260426T004007Z
DTSTART;VALUE=DATE:20250207
DTEND;VALUE=DATE:20250207
SUMMARY:Ausschreibung — Generalsanierung Grund- und Mittelschule Baunach
DESCRIPTION:Phase: Ausschreibung | Beschreibung: Offizielle Ausschreibung mit Bieterfrist. | Link: https://ausschreibungsradar.com/ausschreibung/eee31222-dbd3-4af5-990c-8951773f878a/
URL:https://ausschreibungsradar.com/ausschreibung/eee31222-dbd3-4af5-990c-8951773f878a/
END:VEVENT
END:VCALENDAR
