BEGIN:VCALENDAR
VERSION:2.0
PRODID:-//AusschreibungsRadar//Timeline//DE
CALSCALE:GREGORIAN
METHOD:PUBLISH
X-WR-CALNAME:Projekt Baggerarbeiten
X-WR-TIMEZONE:Europe/Berlin
BEGIN:VEVENT
UID:b15004a07a3581d6@ausschreibungsradar.com
DTSTAMP:20260426T023513Z
DTSTART;VALUE=DATE:20250521
DTEND;VALUE=DATE:20250521
SUMMARY:Angebotsfrist — Baggerarbeiten
DESCRIPTION:Phase: Ausschreibung | Beschreibung: Angebote werden eingeholt | Link: https://ausschreibungsradar.com/ausschreibung/39a5e9d6-cbd9-4807-9eca-4292203a6ae9/
URL:https://ausschreibungsradar.com/ausschreibung/39a5e9d6-cbd9-4807-9eca-4292203a6ae9/
END:VEVENT
BEGIN:VEVENT
UID:47cd4f6ad3d2aa58@ausschreibungsradar.com
DTSTAMP:20260426T023513Z
DTSTART;VALUE=DATE:20250520
DTEND;VALUE=DATE:20250520
SUMMARY:Zuschlag — Baggerarbeiten
DESCRIPTION:Phase: Zuschlag | Beschreibung: Vergabeergebnis — Auftrag wurde erteilt oder Verfahren beendet. | Link: https://ausschreibungsradar.com/ausschreibung/ab444ec3-4563-471f-9f71-0540aee5f895/
URL:https://ausschreibungsradar.com/ausschreibung/ab444ec3-4563-471f-9f71-0540aee5f895/
END:VEVENT
BEGIN:VEVENT
UID:0d3572167ed99c02@ausschreibungsradar.com
DTSTAMP:20260426T023513Z
DTSTART;VALUE=DATE:20250603
DTEND;VALUE=DATE:20250603
SUMMARY:Vergabeergebnis — Baggerarbeiten
DESCRIPTION:Phase: Vergabeergebnis | Beschreibung: Auftrag wurde zugeschlagen | Link: https://ausschreibungsradar.com/ausschreibung/19184065-1cd0-4b9d-89a3-ca47ad151968/ | Auftragnehmer: Franz Hohenrainer GmbH | 
URL:https://ausschreibungsradar.com/ausschreibung/19184065-1cd0-4b9d-89a3-ca47ad151968/
END:VEVENT
END:VCALENDAR
