BEGIN:VCALENDAR
VERSION:2.0
PRODID:-//AusschreibungsRadar//Timeline//DE
CALSCALE:GREGORIAN
METHOD:PUBLISH
X-WR-CALNAME:Projekt Wiederaufforstung von Kalamitätsflächen in der Gemarkung Lag
X-WR-TIMEZONE:Europe/Berlin
BEGIN:VEVENT
UID:1a1918d5dfce87e0@ausschreibungsradar.com
DTSTAMP:20260424T000922Z
DTSTART;VALUE=DATE:20230103
DTEND;VALUE=DATE:20230103
SUMMARY:Ausschreibung — Wiederaufforstung von Kalamitätsflächen in der Gemarkung Lag
DESCRIPTION:Phase: Ausschreibung | Beschreibung: Offizielle Ausschreibung mit Bieterfrist. | Link: https://ausschreibungsradar.com/ausschreibung/19234938/
URL:https://ausschreibungsradar.com/ausschreibung/19234938/
END:VEVENT
BEGIN:VEVENT
UID:3655e9e52a067ae2@ausschreibungsradar.com
DTSTAMP:20260424T000922Z
DTSTART;VALUE=DATE:20230103
DTEND;VALUE=DATE:20230103
SUMMARY:Ausschreibung — Wiederaufforstung von Kalamitätsflächen in der Gemarkung Lag
DESCRIPTION:Phase: Ausschreibung | Beschreibung: Offizielle Ausschreibung mit Bieterfrist. | Link: https://ausschreibungsradar.com/ausschreibung/19234942/
URL:https://ausschreibungsradar.com/ausschreibung/19234942/
END:VEVENT
BEGIN:VEVENT
UID:ab209bca3277d178@ausschreibungsradar.com
DTSTAMP:20260424T000922Z
DTSTART;VALUE=DATE:20230104
DTEND;VALUE=DATE:20230104
SUMMARY:Ausschreibung — Wiederaufforstung von Kalamitätsflächen in der Gemarkung Lag
DESCRIPTION:Phase: Ausschreibung | Beschreibung: Offizielle Ausschreibung mit Bieterfrist. | Link: https://ausschreibungsradar.com/ausschreibung/19242060/
URL:https://ausschreibungsradar.com/ausschreibung/19242060/
END:VEVENT
BEGIN:VEVENT
UID:35745870c9d0fdc4@ausschreibungsradar.com
DTSTAMP:20260424T000922Z
DTSTART;VALUE=DATE:20230104
DTEND;VALUE=DATE:20230104
SUMMARY:Ausschreibung — Wiederaufforstung von Kalamitätsflächen in der Gemarkung Lag
DESCRIPTION:Phase: Ausschreibung | Beschreibung: Offizielle Ausschreibung mit Bieterfrist. | Link: https://ausschreibungsradar.com/ausschreibung/19242056/
URL:https://ausschreibungsradar.com/ausschreibung/19242056/
END:VEVENT
BEGIN:VEVENT
UID:1428088b2372c33a@ausschreibungsradar.com
DTSTAMP:20260424T000922Z
DTSTART;VALUE=DATE:20230104
DTEND;VALUE=DATE:20230104
SUMMARY:Ausschreibung — Wiederaufforstung von Kalamitätsflächen in der Gemarkung Lag
DESCRIPTION:Phase: Ausschreibung | Beschreibung: Offizielle Ausschreibung mit Bieterfrist. | Link: https://ausschreibungsradar.com/ausschreibung/19242052/
URL:https://ausschreibungsradar.com/ausschreibung/19242052/
END:VEVENT
END:VCALENDAR
