BEGIN:VCALENDAR
VERSION:2.0
PRODID:-//AusschreibungsRadar//Timeline//DE
CALSCALE:GREGORIAN
METHOD:PUBLISH
X-WR-CALNAME:Projekt Kloster Bad Doberan, Sanierung und Umbau des Wirtschaftsgebä
X-WR-TIMEZONE:Europe/Berlin
BEGIN:VEVENT
UID:3b8be2dd1e8a9ece@ausschreibungsradar.com
DTSTAMP:20260424T020029Z
DTSTART;VALUE=DATE:20230122
DTEND;VALUE=DATE:20230122
SUMMARY:Ausschreibung — Kloster Bad Doberan\, Sanierung und Umbau des Wirtschaftsgebä
DESCRIPTION:Phase: Ausschreibung | Beschreibung: Offizielle Ausschreibung mit Bieterfrist. | Link: https://ausschreibungsradar.com/ausschreibung/19342594/
URL:https://ausschreibungsradar.com/ausschreibung/19342594/
END:VEVENT
BEGIN:VEVENT
UID:65ec6e6bd398f42d@ausschreibungsradar.com
DTSTAMP:20260424T020029Z
DTSTART;VALUE=DATE:20230126
DTEND;VALUE=DATE:20230126
SUMMARY:Ausschreibung — Kloster Bad Doberan\, Sanierung und Umbau des Wirtschaftsgebä
DESCRIPTION:Phase: Ausschreibung | Beschreibung: Offizielle Ausschreibung mit Bieterfrist. | Link: https://ausschreibungsradar.com/ausschreibung/19370430/
URL:https://ausschreibungsradar.com/ausschreibung/19370430/
END:VEVENT
END:VCALENDAR
