BEGIN:VCALENDAR
VERSION:2.0
PRODID:-//AusschreibungsRadar//Timeline//DE
CALSCALE:GREGORIAN
METHOD:PUBLISH
X-WR-CALNAME:Projekt Neubau Sporthalle Oscar-Paret-Schule
X-WR-TIMEZONE:Europe/Berlin
BEGIN:VEVENT
UID:d4da97a35f10de84@ausschreibungsradar.com
DTSTAMP:20260425T233452Z
DTSTART;VALUE=DATE:20230206
DTEND;VALUE=DATE:20230206
SUMMARY:Ausschreibung — Neubau Sporthalle Oscar-Paret-Schule
DESCRIPTION:Phase: Ausschreibung | Beschreibung: Offizielle Ausschreibung mit Bieterfrist. | Link: https://ausschreibungsradar.com/ausschreibung/19428422/
URL:https://ausschreibungsradar.com/ausschreibung/19428422/
END:VEVENT
BEGIN:VEVENT
UID:7d70beaf3121b43f@ausschreibungsradar.com
DTSTAMP:20260425T233452Z
DTSTART;VALUE=DATE:20230206
DTEND;VALUE=DATE:20230206
SUMMARY:Ausschreibung — Neubau Sporthalle Oscar-Paret-Schule
DESCRIPTION:Phase: Ausschreibung | Beschreibung: Offizielle Ausschreibung mit Bieterfrist. | Link: https://ausschreibungsradar.com/ausschreibung/19428430/
URL:https://ausschreibungsradar.com/ausschreibung/19428430/
END:VEVENT
END:VCALENDAR
