BEGIN:VCALENDAR
VERSION:2.0
PRODID:-//AusschreibungsRadar//Timeline//DE
CALSCALE:GREGORIAN
METHOD:PUBLISH
X-WR-CALNAME:Projekt Sanierung des Sportparks im Ortsteil Gaustadt, Bamberg – Fac
X-WR-TIMEZONE:Europe/Berlin
BEGIN:VEVENT
UID:1de1a74335fdbd1a@ausschreibungsradar.com
DTSTAMP:20260424T190908Z
DTSTART;VALUE=DATE:20240523
DTEND;VALUE=DATE:20240523
SUMMARY:Ausschreibung — Sanierung des Sportparks im Ortsteil Gaustadt\, Bamberg – Fac
DESCRIPTION:Phase: Ausschreibung | Beschreibung: Angebote werden eingeholt | Link: https://ausschreibungsradar.com/ausschreibung/1944dd85-dccd-42c3-8f89-a5a726d7be43/
URL:https://ausschreibungsradar.com/ausschreibung/1944dd85-dccd-42c3-8f89-a5a726d7be43/
END:VEVENT
BEGIN:VEVENT
UID:a465a2e42952c862@ausschreibungsradar.com
DTSTAMP:20260424T190908Z
DTSTART;VALUE=DATE:20240523
DTEND;VALUE=DATE:20240523
SUMMARY:Ausschreibung — Sanierung des Sportparks im Ortsteil Gaustadt\, Bamberg – Fac
DESCRIPTION:Phase: Ausschreibung | Beschreibung: Offizielle Ausschreibung mit Bieterfrist. | Link: https://ausschreibungsradar.com/ausschreibung/893649fd-8f57-4ca4-a7d2-ca710c06c5d0/
URL:https://ausschreibungsradar.com/ausschreibung/893649fd-8f57-4ca4-a7d2-ca710c06c5d0/
END:VEVENT
BEGIN:VEVENT
UID:71e1f1dc6a47aeb8@ausschreibungsradar.com
DTSTAMP:20260424T190908Z
DTSTART;VALUE=DATE:20250425
DTEND;VALUE=DATE:20250425
SUMMARY:Vergabeergebnis — Sanierung des Sportparks im Ortsteil Gaustadt\, Bamberg – Fac
DESCRIPTION:Phase: Vergabeergebnis | Beschreibung: Auftrag wurde zugeschlagen | Link: https://ausschreibungsradar.com/ausschreibung/5c73c3da-1278-42e4-9210-a75075764452/
URL:https://ausschreibungsradar.com/ausschreibung/5c73c3da-1278-42e4-9210-a75075764452/
END:VEVENT
END:VCALENDAR
