BEGIN:VCALENDAR
VERSION:2.0
PRODID:-//AusschreibungsRadar//Timeline//DE
CALSCALE:GREGORIAN
METHOD:PUBLISH
X-WR-CALNAME:Projekt Neubau Rathausergänzungsgebäude und Umbau Bestandsgebäude; G
X-WR-TIMEZONE:Europe/Berlin
BEGIN:VEVENT
UID:de7bfd3ad82b51dc@ausschreibungsradar.com
DTSTAMP:20260425T134849Z
DTSTART;VALUE=DATE:20250320
DTEND;VALUE=DATE:20250320
SUMMARY:Ausschreibung — Neubau Rathausergänzungsgebäude und Umbau Bestandsgebäude\; G
DESCRIPTION:Phase: Ausschreibung | Beschreibung: Offizielle Ausschreibung mit Bieterfrist. | Link: https://ausschreibungsradar.com/ausschreibung/a00ae02f-30a5-4847-96aa-597fe53ead6b/
URL:https://ausschreibungsradar.com/ausschreibung/a00ae02f-30a5-4847-96aa-597fe53ead6b/
END:VEVENT
BEGIN:VEVENT
UID:080cef916e7d2221@ausschreibungsradar.com
DTSTAMP:20260425T134849Z
DTSTART;VALUE=DATE:20250429
DTEND;VALUE=DATE:20250429
SUMMARY:Angebotsfrist — Neubau Rathausergänzungsgebäude und Umbau Bestandsgebäude\; G
DESCRIPTION:Phase: Ausschreibung | Beschreibung: Angebote werden eingeholt | Link: https://ausschreibungsradar.com/ausschreibung/19459560-ceb5-4fc7-b6ce-2582b2d21e60/
URL:https://ausschreibungsradar.com/ausschreibung/19459560-ceb5-4fc7-b6ce-2582b2d21e60/
END:VEVENT
BEGIN:VEVENT
UID:ccf75c2ab7ba9b76@ausschreibungsradar.com
DTSTAMP:20260425T134849Z
DTSTART;VALUE=DATE:20250423
DTEND;VALUE=DATE:20250423
SUMMARY:Zuschlag — Neubau Rathausergänzungsgebäude und Umbau Bestandsgebäude\; G
DESCRIPTION:Phase: Zuschlag | Beschreibung: Vergabeergebnis — Auftrag wurde erteilt oder Verfahren beendet. | Link: https://ausschreibungsradar.com/ausschreibung/6dfc4654-0da2-4fd1-b8b8-5e281762ef50/
URL:https://ausschreibungsradar.com/ausschreibung/6dfc4654-0da2-4fd1-b8b8-5e281762ef50/
END:VEVENT
BEGIN:VEVENT
UID:d55a6876a2d18597@ausschreibungsradar.com
DTSTAMP:20260425T134849Z
DTSTART;VALUE=DATE:20250603
DTEND;VALUE=DATE:20250603
SUMMARY:Vergabeergebnis — Neubau Rathausergänzungsgebäude und Umbau Bestandsgebäude\; G
DESCRIPTION:Phase: Vergabeergebnis | Beschreibung: Auftrag wurde zugeschlagen | Link: https://ausschreibungsradar.com/ausschreibung/21cf8d1b-1274-4a02-a3ce-f16b32277472/
URL:https://ausschreibungsradar.com/ausschreibung/21cf8d1b-1274-4a02-a3ce-f16b32277472/
END:VEVENT
END:VCALENDAR
