BEGIN:VCALENDAR
VERSION:2.0
PRODID:-//AusschreibungsRadar//Timeline//DE
CALSCALE:GREGORIAN
METHOD:PUBLISH
X-WR-CALNAME:Projekt WH Waschplatz - Reparatur Oberfläche Tankstelle
X-WR-TIMEZONE:Europe/Berlin
BEGIN:VEVENT
UID:271292b356e8baae@ausschreibungsradar.com
DTSTAMP:20260425T233450Z
DTSTART;VALUE=DATE:20230210
DTEND;VALUE=DATE:20230210
SUMMARY:Ausschreibung — WH Waschplatz - Reparatur Oberfläche Tankstelle
DESCRIPTION:Phase: Ausschreibung | Beschreibung: Offizielle Ausschreibung mit Bieterfrist. | Link: https://ausschreibungsradar.com/ausschreibung/19465238/
URL:https://ausschreibungsradar.com/ausschreibung/19465238/
END:VEVENT
BEGIN:VEVENT
UID:8fb078cab8b661c9@ausschreibungsradar.com
DTSTAMP:20260425T233450Z
DTSTART;VALUE=DATE:20230214
DTEND;VALUE=DATE:20230214
SUMMARY:Ausschreibung — WH Waschplatz - Reparatur Oberfläche Tankstelle
DESCRIPTION:Phase: Ausschreibung | Beschreibung: Offizielle Ausschreibung mit Bieterfrist. | Link: https://ausschreibungsradar.com/ausschreibung/19485220/
URL:https://ausschreibungsradar.com/ausschreibung/19485220/
END:VEVENT
END:VCALENDAR
