BEGIN:VCALENDAR
VERSION:2.0
PRODID:-//AusschreibungsRadar//Timeline//DE
CALSCALE:GREGORIAN
METHOD:PUBLISH
X-WR-CALNAME:Projekt Neugestaltung der Ortsmitte Vorderbuchberg, Einbauten (Außen
X-WR-TIMEZONE:Europe/Berlin
BEGIN:VEVENT
UID:7b61a14903cc3484@ausschreibungsradar.com
DTSTAMP:20260424T211550Z
DTSTART;VALUE=DATE:20230317
DTEND;VALUE=DATE:20230317
SUMMARY:Ausschreibung — Neugestaltung der Ortsmitte Vorderbuchberg\, Einbauten (Außen
DESCRIPTION:Phase: Ausschreibung | Beschreibung: Offizielle Ausschreibung mit Bieterfrist. | Link: https://ausschreibungsradar.com/ausschreibung/19684442/
URL:https://ausschreibungsradar.com/ausschreibung/19684442/
END:VEVENT
BEGIN:VEVENT
UID:806c354780d6c1a3@ausschreibungsradar.com
DTSTAMP:20260424T211550Z
DTSTART;VALUE=DATE:20230317
DTEND;VALUE=DATE:20230317
SUMMARY:Ausschreibung — Neugestaltung der Ortsmitte Vorderbuchberg\, Einbauten (Außen
DESCRIPTION:Phase: Ausschreibung | Beschreibung: Offizielle Ausschreibung mit Bieterfrist. | Link: https://ausschreibungsradar.com/ausschreibung/19684446/
URL:https://ausschreibungsradar.com/ausschreibung/19684446/
END:VEVENT
END:VCALENDAR
