BEGIN:VCALENDAR
VERSION:2.0
PRODID:-//AusschreibungsRadar//Timeline//DE
CALSCALE:GREGORIAN
METHOD:PUBLISH
X-WR-CALNAME:Projekt Gruppenkläranlage Meerfeld - Tiefbauarbeiten
X-WR-TIMEZONE:Europe/Berlin
BEGIN:VEVENT
UID:9504b5632558467e@ausschreibungsradar.com
DTSTAMP:20260424T143025Z
DTSTART;VALUE=DATE:20250905
DTEND;VALUE=DATE:20250905
SUMMARY:Angebotsfrist — Gruppenkläranlage Meerfeld - Tiefbauarbeiten
DESCRIPTION:Phase: Ausschreibung | Beschreibung: Angebote werden eingeholt | Link: https://ausschreibungsradar.com/ausschreibung/1986074e-6cc7-4cc1-8b3b-4b84e043bd23/
URL:https://ausschreibungsradar.com/ausschreibung/1986074e-6cc7-4cc1-8b3b-4b84e043bd23/
END:VEVENT
BEGIN:VEVENT
UID:563716950bd8210a@ausschreibungsradar.com
DTSTAMP:20260424T143025Z
DTSTART;VALUE=DATE:20250805
DTEND;VALUE=DATE:20250805
SUMMARY:Ausschreibung — Gruppenkläranlage Meerfeld - Tiefbauarbeiten
DESCRIPTION:Phase: Ausschreibung | Beschreibung: Offizielle Ausschreibung mit Bieterfrist. | Link: https://ausschreibungsradar.com/ausschreibung/66aa4db2-b60d-4302-9875-e9784dd4da76/
URL:https://ausschreibungsradar.com/ausschreibung/66aa4db2-b60d-4302-9875-e9784dd4da76/
END:VEVENT
BEGIN:VEVENT
UID:451aabe47fd75147@ausschreibungsradar.com
DTSTAMP:20260424T143025Z
DTSTART;VALUE=DATE:20250805
DTEND;VALUE=DATE:20250805
SUMMARY:Ausschreibung — Gruppenkläranlage Meerfeld - Tiefbauarbeiten
DESCRIPTION:Phase: Ausschreibung | Beschreibung: Offizielle Ausschreibung mit Bieterfrist. | Link: https://ausschreibungsradar.com/ausschreibung/b60e6cf4-78b5-4c66-9b58-a3e507d96b63/
URL:https://ausschreibungsradar.com/ausschreibung/b60e6cf4-78b5-4c66-9b58-a3e507d96b63/
END:VEVENT
BEGIN:VEVENT
UID:cf61093b984bb1cb@ausschreibungsradar.com
DTSTAMP:20260424T143025Z
DTSTART;VALUE=DATE:20250805
DTEND;VALUE=DATE:20250805
SUMMARY:Ausschreibung — Gruppenkläranlage Meerfeld - Tiefbauarbeiten
DESCRIPTION:Phase: Ausschreibung | Beschreibung: Offizielle Ausschreibung mit Bieterfrist. | Link: https://ausschreibungsradar.com/ausschreibung/7bf02c72-cc4a-41f2-8df4-501309d2b51b/
URL:https://ausschreibungsradar.com/ausschreibung/7bf02c72-cc4a-41f2-8df4-501309d2b51b/
END:VEVENT
BEGIN:VEVENT
UID:25235f8e33b81010@ausschreibungsradar.com
DTSTAMP:20260424T143025Z
DTSTART;VALUE=DATE:20251014
DTEND;VALUE=DATE:20251014
SUMMARY:Vergabeergebnis — Gruppenkläranlage Meerfeld - Tiefbauarbeiten
DESCRIPTION:Phase: Vergabeergebnis | Beschreibung: Auftrag wurde zugeschlagen | Link: https://ausschreibungsradar.com/ausschreibung/62cf9c83-7398-44c8-807e-b814121c903d/
URL:https://ausschreibungsradar.com/ausschreibung/62cf9c83-7398-44c8-807e-b814121c903d/
END:VEVENT
END:VCALENDAR
