BEGIN:VCALENDAR
VERSION:2.0
PRODID:-//AusschreibungsRadar//Timeline//DE
CALSCALE:GREGORIAN
METHOD:PUBLISH
X-WR-CALNAME:Projekt Ausschreibung der technischen Gebäudeausstattung der Gemeind
X-WR-TIMEZONE:Europe/Berlin
BEGIN:VEVENT
UID:b9af1e201e740d73@ausschreibungsradar.com
DTSTAMP:20260425T035212Z
DTSTART;VALUE=DATE:20230717
DTEND;VALUE=DATE:20230717
SUMMARY:Angebotsfrist — Ausschreibung der technischen Gebäudeausstattung der Gemeind
DESCRIPTION:Phase: Ausschreibung | Beschreibung: Angebote werden eingeholt | Link: https://ausschreibungsradar.com/ausschreibung/19cac18a-427c-4ad2-8cb5-fb157dea1290/
URL:https://ausschreibungsradar.com/ausschreibung/19cac18a-427c-4ad2-8cb5-fb157dea1290/
END:VEVENT
BEGIN:VEVENT
UID:4975904e7b620755@ausschreibungsradar.com
DTSTAMP:20260425T035212Z
DTSTART;VALUE=DATE:20230918
DTEND;VALUE=DATE:20230918
SUMMARY:Vergabeergebnis — Ausschreibung der technischen Gebäudeausstattung der Gemeind
DESCRIPTION:Phase: Vergabeergebnis | Beschreibung: Auftrag wurde zugeschlagen | Link: https://ausschreibungsradar.com/ausschreibung/c7b7d79e-2bfb-4d80-bcde-3de53c876de3/ | Auftragnehmer: BAUPROJEKT K. Schmidt Gmb
URL:https://ausschreibungsradar.com/ausschreibung/c7b7d79e-2bfb-4d80-bcde-3de53c876de3/
END:VEVENT
END:VCALENDAR
