BEGIN:VCALENDAR
VERSION:2.0
PRODID:-//AusschreibungsRadar//Timeline//DE
CALSCALE:GREGORIAN
METHOD:PUBLISH
X-WR-CALNAME:Projekt Kläranlage Preetz – Gasspeicherung und Gasreinigung – M5.1-5
X-WR-TIMEZONE:Europe/Berlin
BEGIN:VEVENT
UID:3df6fcda15c64be1@ausschreibungsradar.com
DTSTAMP:20260425T215644Z
DTSTART;VALUE=DATE:20240918
DTEND;VALUE=DATE:20240918
SUMMARY:Ausschreibung — Kläranlage Preetz – Gasspeicherung und Gasreinigung – M5.1-5
DESCRIPTION:Phase: Ausschreibung | Beschreibung: Offizielle Ausschreibung mit Bieterfrist. | Link: https://ausschreibungsradar.com/ausschreibung/fc2c46ee-4210-4417-8657-14c7b9bd09b4/
URL:https://ausschreibungsradar.com/ausschreibung/fc2c46ee-4210-4417-8657-14c7b9bd09b4/
END:VEVENT
BEGIN:VEVENT
UID:c92072183039a41d@ausschreibungsradar.com
DTSTAMP:20260425T215644Z
DTSTART;VALUE=DATE:20240927
DTEND;VALUE=DATE:20240927
SUMMARY:Ausschreibung — Kläranlage Preetz – Gasspeicherung und Gasreinigung – M5.1-5
DESCRIPTION:Phase: Ausschreibung | Beschreibung: Angebote werden eingeholt | Link: https://ausschreibungsradar.com/ausschreibung/19f703da-28d8-41a5-89e8-ce884356a181/
URL:https://ausschreibungsradar.com/ausschreibung/19f703da-28d8-41a5-89e8-ce884356a181/
END:VEVENT
BEGIN:VEVENT
UID:bbc4199e3259dc58@ausschreibungsradar.com
DTSTAMP:20260425T215644Z
DTSTART;VALUE=DATE:20240930
DTEND;VALUE=DATE:20240930
SUMMARY:Ausschreibung — Kläranlage Preetz – Gasspeicherung und Gasreinigung – M5.1-5
DESCRIPTION:Phase: Ausschreibung | Beschreibung: Offizielle Ausschreibung mit Bieterfrist. | Link: https://ausschreibungsradar.com/ausschreibung/ted-586722-2024/
URL:https://ausschreibungsradar.com/ausschreibung/ted-586722-2024/
END:VEVENT
END:VCALENDAR
