BEGIN:VCALENDAR
VERSION:2.0
PRODID:-//AusschreibungsRadar//Timeline//DE
CALSCALE:GREGORIAN
METHOD:PUBLISH
X-WR-CALNAME:Projekt Beschaffung und Einführung einer Softwarelösung für das Radi
X-WR-TIMEZONE:Europe/Berlin
BEGIN:VEVENT
UID:1f4c33d59b9fb905@ausschreibungsradar.com
DTSTAMP:20260426T043025Z
DTSTART;VALUE=DATE:20250606
DTEND;VALUE=DATE:20250606
SUMMARY:Ausschreibung — Beschaffung und Einführung einer Softwarelösung für das Radi
DESCRIPTION:Phase: Ausschreibung | Beschreibung: Angebote werden eingeholt | Link: https://ausschreibungsradar.com/ausschreibung/1a43aabb-1317-45bd-a33d-66c67dc23fe1/
URL:https://ausschreibungsradar.com/ausschreibung/1a43aabb-1317-45bd-a33d-66c67dc23fe1/
END:VEVENT
BEGIN:VEVENT
UID:6159ad732bc96149@ausschreibungsradar.com
DTSTAMP:20260426T043025Z
DTSTART;VALUE=DATE:20260324
DTEND;VALUE=DATE:20260324
SUMMARY:Vergabeergebnis — Beschaffung und Einführung einer Softwarelösung für das Radi
DESCRIPTION:Phase: Vergabeergebnis | Beschreibung: Auftrag wurde zugeschlagen | Link: https://ausschreibungsradar.com/ausschreibung/ae17c55e-cbbb-46a0-a921-9161279a2eda/
URL:https://ausschreibungsradar.com/ausschreibung/ae17c55e-cbbb-46a0-a921-9161279a2eda/
END:VEVENT
END:VCALENDAR
