BEGIN:VCALENDAR
VERSION:2.0
PRODID:-//AusschreibungsRadar//Timeline//DE
CALSCALE:GREGORIAN
METHOD:PUBLISH
X-WR-CALNAME:Projekt Los 300-061 Abriss und Rohbauarbeiten Bremerhaven Mitte
X-WR-TIMEZONE:Europe/Berlin
BEGIN:VEVENT
UID:6924d40cd29f1f40@ausschreibungsradar.com
DTSTAMP:20260424T225306Z
DTSTART;VALUE=DATE:20230913
DTEND;VALUE=DATE:20230913
SUMMARY:Angebotsfrist — Los 300-061 Abriss und Rohbauarbeiten Bremerhaven Mitte
DESCRIPTION:Phase: Ausschreibung | Beschreibung: Angebote werden eingeholt | Link: https://ausschreibungsradar.com/ausschreibung/1a7ee500-1a01-4ef0-b53d-5625d4bcbe6e/
URL:https://ausschreibungsradar.com/ausschreibung/1a7ee500-1a01-4ef0-b53d-5625d4bcbe6e/
END:VEVENT
END:VCALENDAR
