BEGIN:VCALENDAR
VERSION:2.0
PRODID:-//AusschreibungsRadar//Timeline//DE
CALSCALE:GREGORIAN
METHOD:PUBLISH
X-WR-CALNAME:Projekt Europaweite Vergabe von Planungsleistungen der Tragwerksplan
X-WR-TIMEZONE:Europe/Berlin
BEGIN:VEVENT
UID:044ea323d811ed50@ausschreibungsradar.com
DTSTAMP:20260425T211728Z
DTSTART;VALUE=DATE:20250314
DTEND;VALUE=DATE:20250314
SUMMARY:Ausschreibung — Europaweite Vergabe von Planungsleistungen der Tragwerksplan
DESCRIPTION:Phase: Ausschreibung | Beschreibung: Offizielle Ausschreibung mit Bieterfrist. | Link: https://ausschreibungsradar.com/ausschreibung/1a92d95a-8dc5-4842-b8b3-481a120abeac/
URL:https://ausschreibungsradar.com/ausschreibung/1a92d95a-8dc5-4842-b8b3-481a120abeac/
END:VEVENT
BEGIN:VEVENT
UID:a0ae678c6ffb5619@ausschreibungsradar.com
DTSTAMP:20260425T211728Z
DTSTART;VALUE=DATE:20250314
DTEND;VALUE=DATE:20250314
SUMMARY:Ausschreibung — Europaweite Vergabe von Planungsleistungen der Tragwerksplan
DESCRIPTION:Phase: Ausschreibung | Beschreibung: Offizielle Ausschreibung mit Bieterfrist. | Link: https://ausschreibungsradar.com/ausschreibung/8dc77191-fd3a-4453-9ca0-f696e67b02d0/
URL:https://ausschreibungsradar.com/ausschreibung/8dc77191-fd3a-4453-9ca0-f696e67b02d0/
END:VEVENT
END:VCALENDAR
