BEGIN:VCALENDAR
VERSION:2.0
PRODID:-//AusschreibungsRadar//Timeline//DE
CALSCALE:GREGORIAN
METHOD:PUBLISH
X-WR-CALNAME:Projekt Gemeinde_Apfeldorf-_Gigabit-RL_2.0 - Auswahl eines Netzbetre
X-WR-TIMEZONE:Europe/Berlin
BEGIN:VEVENT
UID:539f8fb6dbbce684@ausschreibungsradar.com
DTSTAMP:20260424T091000Z
DTSTART;VALUE=DATE:20240809
DTEND;VALUE=DATE:20240809
SUMMARY:Ausschreibung — Gemeinde_Apfeldorf-_Gigabit-RL_2.0 - Auswahl eines Netzbetre
DESCRIPTION:Phase: Ausschreibung | Beschreibung: Angebote werden eingeholt | Link: https://ausschreibungsradar.com/ausschreibung/fb2b7443-b923-4dae-9ba5-6a88543ed2a2/ | Geschätzter Wert: 2730000 €
URL:https://ausschreibungsradar.com/ausschreibung/fb2b7443-b923-4dae-9ba5-6a88543ed2a2/
END:VEVENT
BEGIN:VEVENT
UID:4812a47f38495059@ausschreibungsradar.com
DTSTAMP:20260424T091000Z
DTSTART;VALUE=DATE:20260211
DTEND;VALUE=DATE:20260211
SUMMARY:Vergabeergebnis — Gemeinde_Apfeldorf-_Gigabit-RL_2.0 - Auswahl eines Netzbetre
DESCRIPTION:Phase: Vergabeergebnis | Beschreibung: Auftrag wurde zugeschlagen | Link: https://ausschreibungsradar.com/ausschreibung/1aac4131-bcc2-4dce-8d3a-ac55450e5cc3/ | Geschätzter Wert: 2730000 €
URL:https://ausschreibungsradar.com/ausschreibung/1aac4131-bcc2-4dce-8d3a-ac55450e5cc3/
END:VEVENT
END:VCALENDAR
