BEGIN:VCALENDAR
VERSION:2.0
PRODID:-//AusschreibungsRadar//Timeline//DE
CALSCALE:GREGORIAN
METHOD:PUBLISH
X-WR-CALNAME:Projekt Neubau KiTa Mölleneystraße, Mölleneystraße 16, 45289 Essen, 
X-WR-TIMEZONE:Europe/Berlin
BEGIN:VEVENT
UID:ee7b4754f43dcff4@ausschreibungsradar.com
DTSTAMP:20260425T151744Z
DTSTART;VALUE=DATE:20250611
DTEND;VALUE=DATE:20250611
SUMMARY:Angebotsfrist — Neubau KiTa Mölleneystraße\, Mölleneystraße 16\, 45289 Essen\, 
DESCRIPTION:Phase: Ausschreibung | Beschreibung: Angebote werden eingeholt | Link: https://ausschreibungsradar.com/ausschreibung/4cab8780-26db-42e8-a794-9472c0a9e909/
URL:https://ausschreibungsradar.com/ausschreibung/4cab8780-26db-42e8-a794-9472c0a9e909/
END:VEVENT
BEGIN:VEVENT
UID:fcc12f45289498cf@ausschreibungsradar.com
DTSTAMP:20260425T151744Z
DTSTART;VALUE=DATE:20250916
DTEND;VALUE=DATE:20250916
SUMMARY:Ausschreibung — Neubau KiTa Mölleneystraße\, Mölleneystraße 16\, 45289 Essen\, 
DESCRIPTION:Phase: Ausschreibung | Beschreibung: Offizielle Ausschreibung mit Bieterfrist. | Link: https://ausschreibungsradar.com/ausschreibung/6cb3fe74-2fe7-4c4b-82f6-8582b2df368a/
URL:https://ausschreibungsradar.com/ausschreibung/6cb3fe74-2fe7-4c4b-82f6-8582b2df368a/
END:VEVENT
BEGIN:VEVENT
UID:63962c3fda7e0c05@ausschreibungsradar.com
DTSTAMP:20260425T151744Z
DTSTART;VALUE=DATE:20251007
DTEND;VALUE=DATE:20251007
SUMMARY:Vergabeergebnis — Neubau KiTa Mölleneystraße\, Mölleneystraße 16\, 45289 Essen\, 
DESCRIPTION:Phase: Vergabeergebnis | Beschreibung: Auftrag wurde zugeschlagen | Link: https://ausschreibungsradar.com/ausschreibung/1ad90ba8-5d6d-4922-affb-1447f6ecb645/
URL:https://ausschreibungsradar.com/ausschreibung/1ad90ba8-5d6d-4922-affb-1447f6ecb645/
END:VEVENT
BEGIN:VEVENT
UID:e9abb0692b24b555@ausschreibungsradar.com
DTSTAMP:20260425T151744Z
DTSTART;VALUE=DATE:20251008
DTEND;VALUE=DATE:20251008
SUMMARY:Zuschlag — Neubau KiTa Mölleneystraße\, Mölleneystraße 16\, 45289 Essen\, 
DESCRIPTION:Phase: Zuschlag | Beschreibung: Vergabeergebnis — Auftrag wurde erteilt oder Verfahren beendet. | Link: https://ausschreibungsradar.com/ausschreibung/ted-660730-2025/
URL:https://ausschreibungsradar.com/ausschreibung/ted-660730-2025/
END:VEVENT
END:VCALENDAR
