BEGIN:VCALENDAR
VERSION:2.0
PRODID:-//AusschreibungsRadar//Timeline//DE
CALSCALE:GREGORIAN
METHOD:PUBLISH
X-WR-CALNAME:Projekt Sanierung der NF6 Elektrik
X-WR-TIMEZONE:Europe/Berlin
BEGIN:VEVENT
UID:d3506050c754b4ee@ausschreibungsradar.com
DTSTAMP:20260425T173251Z
DTSTART;VALUE=DATE:20250321
DTEND;VALUE=DATE:20250321
SUMMARY:Ausschreibung — Sanierung der NF6 Elektrik
DESCRIPTION:Phase: Ausschreibung | Beschreibung: Offizielle Ausschreibung mit Bieterfrist. | Link: https://ausschreibungsradar.com/ausschreibung/1611d60f-1e72-4b90-9abc-c251b571639e/
URL:https://ausschreibungsradar.com/ausschreibung/1611d60f-1e72-4b90-9abc-c251b571639e/
END:VEVENT
BEGIN:VEVENT
UID:b36e4780f1d4b8ce@ausschreibungsradar.com
DTSTAMP:20260425T173251Z
DTSTART;VALUE=DATE:20250404
DTEND;VALUE=DATE:20250404
SUMMARY:Zuschlag — Sanierung der NF6 Elektrik
DESCRIPTION:Phase: Zuschlag | Beschreibung: Vergabeergebnis — Auftrag wurde erteilt oder Verfahren beendet. | Link: https://ausschreibungsradar.com/ausschreibung/56d11c9a-b04f-40d9-8070-f836361fe4e9/
URL:https://ausschreibungsradar.com/ausschreibung/56d11c9a-b04f-40d9-8070-f836361fe4e9/
END:VEVENT
BEGIN:VEVENT
UID:2aceb442293ffa39@ausschreibungsradar.com
DTSTAMP:20260425T173251Z
DTSTART;VALUE=DATE:20250515
DTEND;VALUE=DATE:20250515
SUMMARY:Angebotsfrist — Sanierung der NF6 Elektrik
DESCRIPTION:Phase: Ausschreibung | Beschreibung: Angebote werden eingeholt | Link: https://ausschreibungsradar.com/ausschreibung/1b0093c2-97c4-4b3c-ba74-54ad2cfb0b49/
URL:https://ausschreibungsradar.com/ausschreibung/1b0093c2-97c4-4b3c-ba74-54ad2cfb0b49/
END:VEVENT
BEGIN:VEVENT
UID:3ff3305d8475a255@ausschreibungsradar.com
DTSTAMP:20260425T173251Z
DTSTART;VALUE=DATE:20250810
DTEND;VALUE=DATE:20250810
SUMMARY:Vergabeergebnis — Sanierung der NF6 Elektrik
DESCRIPTION:Phase: Vergabeergebnis | Beschreibung: Auftrag wurde zugeschlagen | Link: https://ausschreibungsradar.com/ausschreibung/60c8a457-916a-4fc4-9f62-c07bf6739607/
URL:https://ausschreibungsradar.com/ausschreibung/60c8a457-916a-4fc4-9f62-c07bf6739607/
END:VEVENT
END:VCALENDAR
