BEGIN:VCALENDAR
VERSION:2.0
PRODID:-//AusschreibungsRadar//Timeline//DE
CALSCALE:GREGORIAN
METHOD:PUBLISH
X-WR-CALNAME:Projekt Öffentliches Zentrum Großschwarzenlohe - Heizungsarbeiten
X-WR-TIMEZONE:Europe/Berlin
BEGIN:VEVENT
UID:f7239c38a77cb606@ausschreibungsradar.com
DTSTAMP:20260424T134210Z
DTSTART;VALUE=DATE:20250108
DTEND;VALUE=DATE:20250108
SUMMARY:Zuschlag — Öffentliches Zentrum Großschwarzenlohe - Heizungsarbeiten
DESCRIPTION:Phase: Zuschlag | Beschreibung: Vergabeergebnis — Auftrag wurde erteilt oder Verfahren beendet. | Link: https://ausschreibungsradar.com/ausschreibung/43f86b0c-211d-4655-8c02-7bd83c374e3d/
URL:https://ausschreibungsradar.com/ausschreibung/43f86b0c-211d-4655-8c02-7bd83c374e3d/
END:VEVENT
BEGIN:VEVENT
UID:3e992ec422583ea9@ausschreibungsradar.com
DTSTAMP:20260424T134210Z
DTSTART;VALUE=DATE:20250311
DTEND;VALUE=DATE:20250311
SUMMARY:Angebotsfrist — Öffentliches Zentrum Großschwarzenlohe - Heizungsarbeiten
DESCRIPTION:Phase: Ausschreibung | Beschreibung: Angebote werden eingeholt | Link: https://ausschreibungsradar.com/ausschreibung/1b5dd7c2-193c-4fb0-afcc-c635eaa185fe/ | Geschätzter Wert: 420000 €
URL:https://ausschreibungsradar.com/ausschreibung/1b5dd7c2-193c-4fb0-afcc-c635eaa185fe/
END:VEVENT
BEGIN:VEVENT
UID:d5f6f13657d22983@ausschreibungsradar.com
DTSTAMP:20260424T134210Z
DTSTART;VALUE=DATE:20250213
DTEND;VALUE=DATE:20250213
SUMMARY:Ausschreibung — Öffentliches Zentrum Großschwarzenlohe - Heizungsarbeiten
DESCRIPTION:Phase: Ausschreibung | Beschreibung: Offizielle Ausschreibung mit Bieterfrist. | Link: https://ausschreibungsradar.com/ausschreibung/5f0197a9-d009-4ca4-9c74-455e38be7735/
URL:https://ausschreibungsradar.com/ausschreibung/5f0197a9-d009-4ca4-9c74-455e38be7735/
END:VEVENT
BEGIN:VEVENT
UID:4f18c2ac7c9ca323@ausschreibungsradar.com
DTSTAMP:20260424T134210Z
DTSTART;VALUE=DATE:20250217
DTEND;VALUE=DATE:20250217
SUMMARY:Ausschreibung — Öffentliches Zentrum Großschwarzenlohe - Heizungsarbeiten
DESCRIPTION:Phase: Ausschreibung | Beschreibung: Offizielle Ausschreibung mit Bieterfrist. | Link: https://ausschreibungsradar.com/ausschreibung/cf4353b8-a1cf-479e-a406-4e7af133d5f4/
URL:https://ausschreibungsradar.com/ausschreibung/cf4353b8-a1cf-479e-a406-4e7af133d5f4/
END:VEVENT
BEGIN:VEVENT
UID:cfddd0b569e4b5f1@ausschreibungsradar.com
DTSTAMP:20260424T134210Z
DTSTART;VALUE=DATE:20250423
DTEND;VALUE=DATE:20250423
SUMMARY:Vergabeergebnis — Öffentliches Zentrum Großschwarzenlohe - Heizungsarbeiten
DESCRIPTION:Phase: Vergabeergebnis | Beschreibung: Auftrag wurde zugeschlagen | Link: https://ausschreibungsradar.com/ausschreibung/42e47175-7543-427c-8d86-75bcaca3f05a/
URL:https://ausschreibungsradar.com/ausschreibung/42e47175-7543-427c-8d86-75bcaca3f05a/
END:VEVENT
END:VCALENDAR
