BEGIN:VCALENDAR
VERSION:2.0
PRODID:-//AusschreibungsRadar//Timeline//DE
CALSCALE:GREGORIAN
METHOD:PUBLISH
X-WR-CALNAME:Projekt Transport der internen Dienstpost für das Bezirksamt Neuköll
X-WR-TIMEZONE:Europe/Berlin
BEGIN:VEVENT
UID:06b95eaf2fcf7f56@ausschreibungsradar.com
DTSTAMP:20260426T001357Z
DTSTART;VALUE=DATE:20250224
DTEND;VALUE=DATE:20250224
SUMMARY:Angebotsfrist — Transport der internen Dienstpost für das Bezirksamt Neuköll
DESCRIPTION:Phase: Ausschreibung | Beschreibung: Angebote werden eingeholt | Link: https://ausschreibungsradar.com/ausschreibung/e77859df-a43f-498d-9c59-cba0892d8e9b/
URL:https://ausschreibungsradar.com/ausschreibung/e77859df-a43f-498d-9c59-cba0892d8e9b/
END:VEVENT
BEGIN:VEVENT
UID:7db9667ba43a0f98@ausschreibungsradar.com
DTSTAMP:20260426T001357Z
DTSTART;VALUE=DATE:20250402
DTEND;VALUE=DATE:20250402
SUMMARY:Vergabeergebnis — Transport der internen Dienstpost für das Bezirksamt Neuköll
DESCRIPTION:Phase: Vergabeergebnis | Beschreibung: Auftrag wurde zugeschlagen | Link: https://ausschreibungsradar.com/ausschreibung/1b80f5a3-4dd5-4272-8140-43b29985f67a/ | Auftragnehmer: Berlin Last Mile Serviceg
URL:https://ausschreibungsradar.com/ausschreibung/1b80f5a3-4dd5-4272-8140-43b29985f67a/
END:VEVENT
END:VCALENDAR
